BEGIN:VCALENDAR
VERSION:2.0
PRODID:-//Sortir43 - Votre agenda des spectacles, culture, sports et loisirs - ECPv5.11.0//NONSGML v1.0//EN
CALSCALE:GREGORIAN
METHOD:PUBLISH
X-WR-CALNAME:Sortir43 - Votre agenda des spectacles, culture, sports et loisirs
X-ORIGINAL-URL:https://www.sortir43.com
X-WR-CALDESC:évènements pour Sortir43 - Votre agenda des spectacles, culture, sports et loisirs
BEGIN:VTIMEZONE
TZID:Europe/Paris
BEGIN:DAYLIGHT
TZOFFSETFROM:+0100
TZOFFSETTO:+0200
TZNAME:CEST
DTSTART:20260329T010000
END:DAYLIGHT
BEGIN:STANDARD
TZOFFSETFROM:+0200
TZOFFSETTO:+0100
TZNAME:CET
DTSTART:20261025T010000
END:STANDARD
END:VTIMEZONE
BEGIN:VEVENT
DTSTART;VALUE=DATE:20260710
DTEND;VALUE=DATE:20260713
DTSTAMP:20260422T205252
CREATED:20260420T075857Z
LAST-MODIFIED:20260420T075857Z
UID:75509-1783641600-1783900799@www.sortir43.com
SUMMARY:Le 18e siècle s’invite à Chavaniac-Lafayette
DESCRIPTION:Le 18e siècle s’invite à Chavaniac-Lafayette\nDans le cadre du 250e anniversaire de la Déclaration d’Indépendance des Etats-Unis\, vivez un week-end exceptionnel au château de Chavaniac-Lafayette. \nReconstitution d’un camp militaire par l’association La Belle Journée et saynètes déambulatoire en costumes par l’association Lafayette et Liberté vous attendent. \nRenseignements au 04 71 77 50 32 ou ou par mail ici
URL:https://www.sortir43.com/evenement/le-18e-siecle-sinvite-a-chavaniac-lafayette/
LOCATION:Chavaniac-Lafayette\, Chavaniac-Lafayette\, 43230\, France
CATEGORIES:Animations,Spectacles
ATTACH;FMTTYPE=image/jpeg:https://www.sortir43.com/wp-content/uploads/2026/04/IMG_7265.JPG-scaled.jpg
ORGANIZER;CN="Ch%26acirc%3Bteau%20de%20Chavaniac-Lafayette%20-%20D%26eacute%3Bpartement%20de%20la%20Haute-Loire":MAILTO:chateau-lafayette@hauteloire.fr
END:VEVENT
END:VCALENDAR