BEGIN:VCALENDAR
VERSION:2.0
PRODID:-//Sortir43 - Votre agenda des spectacles, culture, sports et loisirs - ECPv5.11.0//NONSGML v1.0//EN
CALSCALE:GREGORIAN
METHOD:PUBLISH
X-WR-CALNAME:Sortir43 - Votre agenda des spectacles, culture, sports et loisirs
X-ORIGINAL-URL:https://www.sortir43.com
X-WR-CALDESC:évènements pour Sortir43 - Votre agenda des spectacles, culture, sports et loisirs
BEGIN:VTIMEZONE
TZID:Europe/Paris
BEGIN:DAYLIGHT
TZOFFSETFROM:+0100
TZOFFSETTO:+0200
TZNAME:CEST
DTSTART:20260329T010000
END:DAYLIGHT
BEGIN:STANDARD
TZOFFSETFROM:+0200
TZOFFSETTO:+0100
TZNAME:CET
DTSTART:20261025T010000
END:STANDARD
END:VTIMEZONE
BEGIN:VEVENT
DTSTART;TZID=Europe/Paris:20260628T153000
DTEND;TZID=Europe/Paris:20260628T173000
DTSTAMP:20260422T131645
CREATED:20260420T074553Z
LAST-MODIFIED:20260420T074554Z
UID:75503-1782660600-1782667800@www.sortir43.com
SUMMARY:Nous irons tous au bois - Conférence et concert
DESCRIPTION:L’association « Nous irons tous au bois ! » inaugure sa quatrième saison musicale au château de Chavaniac-Lafayette\nen proposant une conférence sur le thème de « La forêt au défi du changement climatique » et un concert au piano avec des œuvres de Chopin et Rachmaninov. \nTarif : 12€ plein tarif ; 6€ tarif réduit : – 18 ans\, étudiants\, demandeurs d’emploi et bénéficiaire RSA. \nRéservation conseillée au 04 71 77 50 32.
URL:https://www.sortir43.com/evenement/nous-irons-tous-au-bois-conference-et-concert/
LOCATION:Chavaniac-Lafayette\, Chavaniac-Lafayette\, 43230\, France
CATEGORIES:Conférences,Spectacles
ATTACH;FMTTYPE=image/jpeg:https://www.sortir43.com/wp-content/uploads/2026/04/PHOTO-2026-02-09-10-04-45.jpg
END:VEVENT
END:VCALENDAR