BEGIN:VCALENDAR
VERSION:2.0
PRODID:-//Sortir43 - Votre agenda des spectacles, culture, sports et loisirs - ECPv5.11.0//NONSGML v1.0//EN
CALSCALE:GREGORIAN
METHOD:PUBLISH
X-WR-CALNAME:Sortir43 - Votre agenda des spectacles, culture, sports et loisirs
X-ORIGINAL-URL:https://www.sortir43.com
X-WR-CALDESC:évènements pour Sortir43 - Votre agenda des spectacles, culture, sports et loisirs
BEGIN:VTIMEZONE
TZID:Europe/Paris
BEGIN:DAYLIGHT
TZOFFSETFROM:+0100
TZOFFSETTO:+0200
TZNAME:CEST
DTSTART:20260329T010000
END:DAYLIGHT
BEGIN:STANDARD
TZOFFSETFROM:+0200
TZOFFSETTO:+0100
TZNAME:CET
DTSTART:20261025T010000
END:STANDARD
END:VTIMEZONE
BEGIN:VEVENT
DTSTART;VALUE=DATE:20260501
DTEND;VALUE=DATE:20260504
DTSTAMP:20260422T205638
CREATED:20260302T110053Z
LAST-MODIFIED:20260402T100045Z
UID:72441-1777593600-1777852799@www.sortir43.com
SUMMARY:Vogue de Raucoules
DESCRIPTION:Vogue de Raucoules\nAnimations et bal des classards.
URL:https://www.sortir43.com/evenement/vogue-de-raucoules-2/
LOCATION:Raucoules\, Raucoules\, 43290\, France
CATEGORIES:Animations
ATTACH;FMTTYPE=image/jpeg:https://www.sortir43.com/wp-content/uploads/2024/06/fete-drapeaux.jpg
END:VEVENT
END:VCALENDAR