BEGIN:VCALENDAR
VERSION:2.0
PRODID:-//Sortir43 - Votre agenda des spectacles, culture, sports et loisirs - ECPv5.11.0//NONSGML v1.0//EN
CALSCALE:GREGORIAN
METHOD:PUBLISH
X-WR-CALNAME:Sortir43 - Votre agenda des spectacles, culture, sports et loisirs
X-ORIGINAL-URL:https://www.sortir43.com
X-WR-CALDESC:évènements pour Sortir43 - Votre agenda des spectacles, culture, sports et loisirs
BEGIN:VTIMEZONE
TZID:Europe/Paris
BEGIN:DAYLIGHT
TZOFFSETFROM:+0100
TZOFFSETTO:+0200
TZNAME:CEST
DTSTART:20260329T010000
END:DAYLIGHT
BEGIN:STANDARD
TZOFFSETFROM:+0200
TZOFFSETTO:+0100
TZNAME:CET
DTSTART:20261025T010000
END:STANDARD
END:VTIMEZONE
BEGIN:VEVENT
DTSTART;TZID=Europe/Paris:20260805T150000
DTEND;TZID=Europe/Paris:20260805T163000
DTSTAMP:20260421T023141
CREATED:20260420T093617Z
LAST-MODIFIED:20260420T093617Z
UID:75533-1785942000-1785947400@www.sortir43.com
SUMMARY:Visites théâtralisées du château de Chavaniac-Lafayette
DESCRIPTION:Visites théâtralisées du château de Chavaniac-Lafayette\nDécouvrez l’histoire du château de Chavaniac-Lafayette et du marquis de Lafayette de manière originale. \nTarif : 14€ plein tarif\, 10€ tarif réduit : 11-18 ans\, étudiants\, demandeurs d’emploi\, bénéficiaires du RSA; 6€ – 11 ans. \nRéservation obligatoire au 04 71 77 50 32.\nNombre de places limité.
URL:https://www.sortir43.com/evenement/visites-theatralisees-du-chateau-de-chavaniac-lafayette-3/2026-08-05/2/
LOCATION:Chavaniac-Lafayette\, Chavaniac-Lafayette\, 43230\, France
CATEGORIES:Animations,Spectacles
ATTACH;FMTTYPE=image/png:https://www.sortir43.com/wp-content/uploads/2026/04/IMG_20250721_160117-flou-1.png
ORGANIZER;CN="Ch%26acirc%3Bteau%20de%20Chavaniac-Lafayette%20-%20D%26eacute%3Bpartement%20de%20la%20Haute-Loire":MAILTO:chateau-lafayette@hauteloire.fr
END:VEVENT
END:VCALENDAR