BEGIN:VCALENDAR
VERSION:2.0
PRODID:-//Sortir43 - Votre agenda des spectacles, culture, sports et loisirs - ECPv5.11.0//NONSGML v1.0//EN
CALSCALE:GREGORIAN
METHOD:PUBLISH
X-WR-CALNAME:Sortir43 - Votre agenda des spectacles, culture, sports et loisirs
X-ORIGINAL-URL:https://www.sortir43.com
X-WR-CALDESC:évènements pour Sortir43 - Votre agenda des spectacles, culture, sports et loisirs
BEGIN:VTIMEZONE
TZID:Europe/Paris
BEGIN:DAYLIGHT
TZOFFSETFROM:+0100
TZOFFSETTO:+0200
TZNAME:CEST
DTSTART:20260329T010000
END:DAYLIGHT
BEGIN:STANDARD
TZOFFSETFROM:+0200
TZOFFSETTO:+0100
TZNAME:CET
DTSTART:20261025T010000
END:STANDARD
END:VTIMEZONE
BEGIN:VEVENT
DTSTART;VALUE=DATE:20260428
DTEND;VALUE=DATE:20260429
DTSTAMP:20260422T192200
CREATED:20260302T111623Z
LAST-MODIFIED:20260401T160753Z
UID:72526-1777334400-1777420799@www.sortir43.com
SUMMARY:Territoires ruraux et territoires urbains\, la biodiversité des oiseaux en milieu bâti
DESCRIPTION:Territoires ruraux et territoires urbains\, la biodiversité des oiseaux en milieu bâti\nConférence par Henri Rodier et Robert Montel de la LPO. \nDans le cadre de Mardi Culture. \nGratuit.
URL:https://www.sortir43.com/evenement/territoires-ruraux-et-territoires-urbains-la-biodiversite-des-oiseaux-en-milieu-bati/
LOCATION:Saint-Germain-Laprade\, Saint-Germain-Laprade\, 43700\, France
CATEGORIES:Conférences
ATTACH;FMTTYPE=image/jpeg:https://www.sortir43.com/wp-content/uploads/2026/03/Conference-film-reportage-GEN.jpg
END:VEVENT
END:VCALENDAR