BEGIN:VCALENDAR
VERSION:2.0
PRODID:-//Sortir43 - Votre agenda des spectacles, culture, sports et loisirs - ECPv5.11.0//NONSGML v1.0//EN
CALSCALE:GREGORIAN
METHOD:PUBLISH
X-WR-CALNAME:Sortir43 - Votre agenda des spectacles, culture, sports et loisirs
X-ORIGINAL-URL:https://www.sortir43.com
X-WR-CALDESC:évènements pour Sortir43 - Votre agenda des spectacles, culture, sports et loisirs
BEGIN:VTIMEZONE
TZID:Europe/Paris
BEGIN:DAYLIGHT
TZOFFSETFROM:+0100
TZOFFSETTO:+0200
TZNAME:CEST
DTSTART:20260329T010000
END:DAYLIGHT
BEGIN:STANDARD
TZOFFSETFROM:+0200
TZOFFSETTO:+0100
TZNAME:CET
DTSTART:20261025T010000
END:STANDARD
END:VTIMEZONE
BEGIN:VEVENT
DTSTART;VALUE=DATE:20260523
DTEND;VALUE=DATE:20260525
DTSTAMP:20260421T143020
CREATED:20260302T112058Z
LAST-MODIFIED:20260403T075215Z
UID:72682-1779494400-1779667199@www.sortir43.com
SUMMARY:Technitrail Tiranges
DESCRIPTION:Technitrail Tiranges\n24e édition. \n4 courses trails de 15 à 82 km\, 1 marche nordique. \nStructure gonflable\, repas sur place et animations. \nRens. : ici – 06 80 06 65 91.
URL:https://www.sortir43.com/evenement/technitrail-tiranges/
LOCATION:Tiranges\, Tiranges\, 43530\, France
CATEGORIES:Sports-Loisirs
ATTACH;FMTTYPE=image/jpeg:https://www.sortir43.com/wp-content/uploads/2026/03/Trail-Tiranges.jpg
END:VEVENT
END:VCALENDAR