BEGIN:VCALENDAR
VERSION:2.0
PRODID:-//Sortir43 - Votre agenda des spectacles, culture, sports et loisirs - ECPv5.11.0//NONSGML v1.0//EN
CALSCALE:GREGORIAN
METHOD:PUBLISH
X-WR-CALNAME:Sortir43 - Votre agenda des spectacles, culture, sports et loisirs
X-ORIGINAL-URL:https://www.sortir43.com
X-WR-CALDESC:évènements pour Sortir43 - Votre agenda des spectacles, culture, sports et loisirs
BEGIN:VTIMEZONE
TZID:Europe/Paris
BEGIN:DAYLIGHT
TZOFFSETFROM:+0100
TZOFFSETTO:+0200
TZNAME:CEST
DTSTART:20260329T010000
END:DAYLIGHT
BEGIN:STANDARD
TZOFFSETFROM:+0200
TZOFFSETTO:+0100
TZNAME:CET
DTSTART:20261025T010000
END:STANDARD
END:VTIMEZONE
BEGIN:VEVENT
DTSTART;VALUE=DATE:20260502
DTEND;VALUE=DATE:20260530
DTSTAMP:20260421T082427
CREATED:20260303T145332Z
LAST-MODIFIED:20260303T164433Z
UID:72951-1777680000-1780099199@www.sortir43.com
SUMMARY:Sur le sentier de tes songes
DESCRIPTION:Sur le sentier de tes songes\nVoyage artistique avec Laura Carmouze. \nVernissage le 2 mai à 11h.
URL:https://www.sortir43.com/evenement/sur-le-sentier-de-tes-songes/
LOCATION:Allègre\, Allègre \, France
CATEGORIES:Expositions
ATTACH;FMTTYPE=image/jpeg:https://www.sortir43.com/wp-content/uploads/2026/03/Sur-le-sentier-de-tes-songes.jpg
END:VEVENT
END:VCALENDAR