BEGIN:VCALENDAR
VERSION:2.0
PRODID:-//Sortir43 - Votre agenda des spectacles, culture, sports et loisirs - ECPv5.11.0//NONSGML v1.0//EN
CALSCALE:GREGORIAN
METHOD:PUBLISH
X-WR-CALNAME:Sortir43 - Votre agenda des spectacles, culture, sports et loisirs
X-ORIGINAL-URL:https://www.sortir43.com
X-WR-CALDESC:évènements pour Sortir43 - Votre agenda des spectacles, culture, sports et loisirs
BEGIN:VTIMEZONE
TZID:Europe/Paris
BEGIN:DAYLIGHT
TZOFFSETFROM:+0100
TZOFFSETTO:+0200
TZNAME:CEST
DTSTART:20260329T010000
END:DAYLIGHT
BEGIN:STANDARD
TZOFFSETFROM:+0200
TZOFFSETTO:+0100
TZNAME:CET
DTSTART:20261025T010000
END:STANDARD
END:VTIMEZONE
BEGIN:VEVENT
DTSTART;TZID=Europe/Paris:20260308T140000
DTEND;TZID=Europe/Paris:20260308T170000
DTSTAMP:20260422T123528
CREATED:20260219T172128Z
LAST-MODIFIED:20260219T172128Z
UID:71984-1772978400-1772989200@www.sortir43.com
SUMMARY:Super Loto
DESCRIPTION:Les micro crèches Minipouce de Lavoûte-sur-Loire et Saint-Vincent organisent leur loto.\nDe nombreux lots a gagner !\nLes bénéfices servent à financer une partie des activités et sorties des enfants.
URL:https://www.sortir43.com/evenement/super-loto-3/
LOCATION:Saint-Vincent\, Saint-Vincent\, 43800\, France
CATEGORIES:Concours / Loto
ATTACH;FMTTYPE=image/jpeg:https://www.sortir43.com/wp-content/uploads/2026/02/IMG-20260215-WA0000.jpg
END:VEVENT
END:VCALENDAR