BEGIN:VCALENDAR
VERSION:2.0
PRODID:-//Sortir43 - Votre agenda des spectacles, culture, sports et loisirs - ECPv5.11.0//NONSGML v1.0//EN
CALSCALE:GREGORIAN
METHOD:PUBLISH
X-WR-CALNAME:Sortir43 - Votre agenda des spectacles, culture, sports et loisirs
X-ORIGINAL-URL:https://www.sortir43.com
X-WR-CALDESC:évènements pour Sortir43 - Votre agenda des spectacles, culture, sports et loisirs
BEGIN:VTIMEZONE
TZID:Europe/Paris
BEGIN:DAYLIGHT
TZOFFSETFROM:+0100
TZOFFSETTO:+0200
TZNAME:CEST
DTSTART:20260329T010000
END:DAYLIGHT
BEGIN:STANDARD
TZOFFSETFROM:+0200
TZOFFSETTO:+0100
TZNAME:CET
DTSTART:20261025T010000
END:STANDARD
END:VTIMEZONE
BEGIN:VEVENT
DTSTART;VALUE=DATE:20260425
DTEND;VALUE=DATE:20260426
DTSTAMP:20260421T060317
CREATED:20260420T123552Z
LAST-MODIFIED:20260420T123553Z
UID:76374-1777075200-1777161599@www.sortir43.com
SUMMARY:Spectacles Petite Enfance
DESCRIPTION:Spectacles Petite Enfance\n• « Le potager de Filo » à 10h 30 \n• « Le voyage de Brindille » à 16h. \nRéservations et contacts:\n06 15 29 45 11 ou par mail ici \nTarifs :\n– 7 € ( Adulte)\n– 5 € (Enfant)
URL:https://www.sortir43.com/evenement/spectacles-petite-enfance/
LOCATION:Vorey-sur-Arzon\, Vorey-sur-Arzon\, France
CATEGORIES:Spectacles
ATTACH;FMTTYPE=image/jpeg:https://www.sortir43.com/wp-content/uploads/2026/04/BrindilleetFiloAffiche-scaled.jpeg
END:VEVENT
END:VCALENDAR