BEGIN:VCALENDAR
VERSION:2.0
PRODID:-//Sortir43 - Votre agenda des spectacles, culture, sports et loisirs - ECPv5.11.0//NONSGML v1.0//EN
CALSCALE:GREGORIAN
METHOD:PUBLISH
X-WR-CALNAME:Sortir43 - Votre agenda des spectacles, culture, sports et loisirs
X-ORIGINAL-URL:https://www.sortir43.com
X-WR-CALDESC:évènements pour Sortir43 - Votre agenda des spectacles, culture, sports et loisirs
BEGIN:VTIMEZONE
TZID:Europe/Paris
BEGIN:DAYLIGHT
TZOFFSETFROM:+0100
TZOFFSETTO:+0200
TZNAME:CEST
DTSTART:20260329T010000
END:DAYLIGHT
BEGIN:STANDARD
TZOFFSETFROM:+0200
TZOFFSETTO:+0100
TZNAME:CET
DTSTART:20261025T010000
END:STANDARD
END:VTIMEZONE
BEGIN:VEVENT
DTSTART;TZID=Europe/Paris:20260503T183000
DTEND;TZID=Europe/Paris:20260503T213000
DTSTAMP:20260422T190927
CREATED:20260420T123833Z
LAST-MODIFIED:20260420T123834Z
UID:76383-1777833000-1777843800@www.sortir43.com
SUMMARY:Scène ouverte
DESCRIPTION:Scène ouverte :\nproposer sur scène une lecture\, un chant\, une danse\, un questionnement\, une blague\, un melon\, une patate…\nbilletterie à prix libre – petite restauration. \nRenseignements : par mail ici – 06 20 97 05 88
URL:https://www.sortir43.com/evenement/scene-ouverte-2/
LOCATION:Chilhac\, Chilhac\, 43380\, France
CATEGORIES:Spectacles
ATTACH;FMTTYPE=image/png:https://www.sortir43.com/wp-content/uploads/2026/04/Scene2.png
END:VEVENT
END:VCALENDAR