BEGIN:VCALENDAR
VERSION:2.0
PRODID:-//Sortir43 - Votre agenda des spectacles, culture, sports et loisirs - ECPv5.11.0//NONSGML v1.0//EN
CALSCALE:GREGORIAN
METHOD:PUBLISH
X-WR-CALNAME:Sortir43 - Votre agenda des spectacles, culture, sports et loisirs
X-ORIGINAL-URL:https://www.sortir43.com
X-WR-CALDESC:évènements pour Sortir43 - Votre agenda des spectacles, culture, sports et loisirs
BEGIN:VTIMEZONE
TZID:Europe/Paris
BEGIN:DAYLIGHT
TZOFFSETFROM:+0100
TZOFFSETTO:+0200
TZNAME:CEST
DTSTART:20260329T010000
END:DAYLIGHT
BEGIN:STANDARD
TZOFFSETFROM:+0200
TZOFFSETTO:+0100
TZNAME:CET
DTSTART:20261025T010000
END:STANDARD
END:VTIMEZONE
BEGIN:VEVENT
DTSTART;VALUE=DATE:20260519
DTEND;VALUE=DATE:20260520
DTSTAMP:20260422T155856
CREATED:20260302T105806Z
LAST-MODIFIED:20260402T152409Z
UID:72281-1779148800-1779235199@www.sortir43.com
SUMMARY:Roman Doduik
DESCRIPTION:Roman Doduik\n« Adorable ».\nDans son oneman-show\, Roman se débarrasse de la bienpensance des réseaux et renoue avec un stand-up aussi piquant qu’intelligent. \nUne écriture incisive\, une mise en scène qui met en avant ses qualités de comédien et d’humoriste pour un show qui évolue entre rire et émotions et touche toute la famille ! \nTarif : 20 €.
URL:https://www.sortir43.com/evenement/roman-doduik/
LOCATION:Monistrol-sur-Loire\, Monistrol-sur-Loire\, 43120\, France
CATEGORIES:Spectacles
ATTACH;FMTTYPE=image/jpeg:https://www.sortir43.com/wp-content/uploads/2026/03/Roman-Doduik.jpg
END:VEVENT
END:VCALENDAR