BEGIN:VCALENDAR
VERSION:2.0
PRODID:-//Sortir43 - Votre agenda des spectacles, culture, sports et loisirs - ECPv5.11.0//NONSGML v1.0//EN
CALSCALE:GREGORIAN
METHOD:PUBLISH
X-WR-CALNAME:Sortir43 - Votre agenda des spectacles, culture, sports et loisirs
X-ORIGINAL-URL:https://www.sortir43.com
X-WR-CALDESC:évènements pour Sortir43 - Votre agenda des spectacles, culture, sports et loisirs
BEGIN:VTIMEZONE
TZID:Europe/Paris
BEGIN:DAYLIGHT
TZOFFSETFROM:+0100
TZOFFSETTO:+0200
TZNAME:CEST
DTSTART:20260329T010000
END:DAYLIGHT
BEGIN:STANDARD
TZOFFSETFROM:+0200
TZOFFSETTO:+0100
TZNAME:CET
DTSTART:20261025T010000
END:STANDARD
END:VTIMEZONE
BEGIN:VEVENT
DTSTART;VALUE=DATE:20260612
DTEND;VALUE=DATE:20260614
DTSTAMP:20260422T074702
CREATED:20260302T105816Z
LAST-MODIFIED:20260409T091755Z
UID:72324-1781222400-1781395199@www.sortir43.com
SUMMARY:Restitution projet EAC Tiss'Art
DESCRIPTION:Restitution d’un travail intitulé « Points de vues » entre artistes et publics cibles intitulé ARTéEA\n• Vendredi : « Gé des histoires dans ma bobine »\, contes sur le fil et le tissage pour toute la famille par Gérardine Maurin (lieu à confirmer) \n• Samedi : événement festif avec restitution des projets\, face aux anciens moulinages Malartre.\nLe réveil des vers à soie\, la tombée du métier\, la lecture du tissage à mots\, la performance chantée de l’atelier d’écriture\, une activation des sculptures grâce à la force de l’eau\, des rencontres entre urbaniste\, paysagiste et artiste sur la mémoire des lieux et le changement qu’un lieu opère sur un territoire. \nGratuit\, ouvert à tous.
URL:https://www.sortir43.com/evenement/restitution-projet-eac-tissart/
LOCATION:Dunières\, Dunieres\, 43220\, France
CATEGORIES:Spectacles
ATTACH;FMTTYPE=image/jpeg:https://www.sortir43.com/wp-content/uploads/2026/03/Ge-des-histoires.jpg
END:VEVENT
END:VCALENDAR