BEGIN:VCALENDAR
VERSION:2.0
PRODID:-//Sortir43 - Votre agenda des spectacles, culture, sports et loisirs - ECPv5.11.0//NONSGML v1.0//EN
CALSCALE:GREGORIAN
METHOD:PUBLISH
X-WR-CALNAME:Sortir43 - Votre agenda des spectacles, culture, sports et loisirs
X-ORIGINAL-URL:https://www.sortir43.com
X-WR-CALDESC:évènements pour Sortir43 - Votre agenda des spectacles, culture, sports et loisirs
BEGIN:VTIMEZONE
TZID:Europe/Paris
BEGIN:DAYLIGHT
TZOFFSETFROM:+0100
TZOFFSETTO:+0200
TZNAME:CEST
DTSTART:20260329T010000
END:DAYLIGHT
BEGIN:STANDARD
TZOFFSETFROM:+0200
TZOFFSETTO:+0100
TZNAME:CET
DTSTART:20261025T010000
END:STANDARD
END:VTIMEZONE
BEGIN:VEVENT
DTSTART;VALUE=DATE:20260602
DTEND;VALUE=DATE:20260603
DTSTAMP:20260421T063227
CREATED:20260302T105812Z
LAST-MODIFIED:20260407T124952Z
UID:72305-1780358400-1780444799@www.sortir43.com
SUMMARY:Restitution médiation culturelle
DESCRIPTION:Restitution médiation culturelle\nAvec les élèves de CP de l’école du Marronnier et le groupe Ho-Agnan.
URL:https://www.sortir43.com/evenement/restitution-mediation-culturelle/
LOCATION:Saint-Germain-Laprade\, Saint-Germain-Laprade\, 43700\, France
CATEGORIES:Spectacles
ATTACH;FMTTYPE=image/jpeg:https://www.sortir43.com/wp-content/uploads/2021/11/Musique-notes-1.jpg
END:VEVENT
END:VCALENDAR