BEGIN:VCALENDAR
VERSION:2.0
PRODID:-//Sortir43 - Votre agenda des spectacles, culture, sports et loisirs - ECPv5.11.0//NONSGML v1.0//EN
CALSCALE:GREGORIAN
METHOD:PUBLISH
X-WR-CALNAME:Sortir43 - Votre agenda des spectacles, culture, sports et loisirs
X-ORIGINAL-URL:https://www.sortir43.com
X-WR-CALDESC:évènements pour Sortir43 - Votre agenda des spectacles, culture, sports et loisirs
BEGIN:VTIMEZONE
TZID:Europe/Paris
BEGIN:DAYLIGHT
TZOFFSETFROM:+0100
TZOFFSETTO:+0200
TZNAME:CEST
DTSTART:20260329T010000
END:DAYLIGHT
BEGIN:STANDARD
TZOFFSETFROM:+0200
TZOFFSETTO:+0100
TZNAME:CET
DTSTART:20261025T010000
END:STANDARD
END:VTIMEZONE
BEGIN:VEVENT
DTSTART;VALUE=DATE:20260518
DTEND;VALUE=DATE:20260523
DTSTAMP:20260421T082254
CREATED:20260302T105806Z
LAST-MODIFIED:20260402T151459Z
UID:72280-1779062400-1779494399@www.sortir43.com
SUMMARY:Résidence d'artistes
DESCRIPTION:Résidence d’artistes\nAutour du théâtre « Roméo et Juliette » d’après W. Shakespeare\, par le Collectif 880.
URL:https://www.sortir43.com/evenement/residence-dartistes/
LOCATION:La Chaise-Dieu\, La Chaise-Dieu\, 43160\, France
CATEGORIES:Spectacles
ATTACH;FMTTYPE=image/jpeg:https://www.sortir43.com/wp-content/uploads/2022/06/Theatre-Generique.jpg
END:VEVENT
END:VCALENDAR