BEGIN:VCALENDAR
VERSION:2.0
PRODID:-//Sortir43 - Votre agenda des spectacles, culture, sports et loisirs - ECPv5.11.0//NONSGML v1.0//EN
CALSCALE:GREGORIAN
METHOD:PUBLISH
X-WR-CALNAME:Sortir43 - Votre agenda des spectacles, culture, sports et loisirs
X-ORIGINAL-URL:https://www.sortir43.com
X-WR-CALDESC:évènements pour Sortir43 - Votre agenda des spectacles, culture, sports et loisirs
BEGIN:VTIMEZONE
TZID:Europe/Paris
BEGIN:DAYLIGHT
TZOFFSETFROM:+0100
TZOFFSETTO:+0200
TZNAME:CEST
DTSTART:20260329T010000
END:DAYLIGHT
BEGIN:STANDARD
TZOFFSETFROM:+0200
TZOFFSETTO:+0100
TZNAME:CET
DTSTART:20261025T010000
END:STANDARD
END:VTIMEZONE
BEGIN:VEVENT
DTSTART;VALUE=DATE:20260426
DTEND;VALUE=DATE:20260427
DTSTAMP:20260425T154831
CREATED:20260421T153950Z
LAST-MODIFIED:20260421T154026Z
UID:77182-1777161600-1777247999@www.sortir43.com
SUMMARY:Rassemblement de véhicules anciens
DESCRIPTION:Une journée dédiée aux amateurs de belles mécaniques !\n\nAu programme : \nexposition de camions\, tracteurs\, voitures\, mobylettes et youngtimers  \n\n\nBuvette et restauration sur place.\nEntrée gratuite.
URL:https://www.sortir43.com/evenement/rassemblement-de-vehicules-anciens-5/
LOCATION:Brives-Charensac\, Brives-Charensac\, 43700\, France
CATEGORIES:Animations
ATTACH;FMTTYPE=image/jpeg:https://www.sortir43.com/wp-content/uploads/2026/04/Rass-vehicules-anciens-Brives.jpg
END:VEVENT
END:VCALENDAR