BEGIN:VCALENDAR
VERSION:2.0
PRODID:-//Sortir43 - Votre agenda des spectacles, culture, sports et loisirs - ECPv5.11.0//NONSGML v1.0//EN
CALSCALE:GREGORIAN
METHOD:PUBLISH
X-WR-CALNAME:Sortir43 - Votre agenda des spectacles, culture, sports et loisirs
X-ORIGINAL-URL:https://www.sortir43.com
X-WR-CALDESC:évènements pour Sortir43 - Votre agenda des spectacles, culture, sports et loisirs
BEGIN:VTIMEZONE
TZID:Europe/Paris
BEGIN:DAYLIGHT
TZOFFSETFROM:+0100
TZOFFSETTO:+0200
TZNAME:CEST
DTSTART:20260329T010000
END:DAYLIGHT
BEGIN:STANDARD
TZOFFSETFROM:+0200
TZOFFSETTO:+0100
TZNAME:CET
DTSTART:20261025T010000
END:STANDARD
END:VTIMEZONE
BEGIN:VEVENT
DTSTART;VALUE=DATE:20260530
DTEND;VALUE=DATE:20260531
DTSTAMP:20260422T104931
CREATED:20260209T150442Z
LAST-MODIFIED:20260209T150503Z
UID:71850-1780099200-1780185599@www.sortir43.com
SUMMARY:Poto Carré
DESCRIPTION:Concert.\nPoto Carré se présente comme « le seul groupe de foot pop in the world ». \nIl chante en effet le football et surtout celui des Verts de l’ASSE.\nYvan Marc et Rémi Peyrache\, accompagnés de MC Pampille et Sarah Mikovski ont réalisé un album qui célèbre le club de Saint Etienne\, ses supporters de tous âges et de toutes origines sociales\, et bien sûr\, l’ambiance du « Chaudron »\, le fameux stade Geoffroy-Guichard\, sans oublier Les Vertes du foot féminin. \nLes artistes ont eu envie de raconter cette passion\, cette fidélité\, cette fierté que représente ce maillot vert et cette ville de Saint Etienne et le lien de ce club avec la population. Cette passion qui se transmet\, traverse le temps\, hermétique à tous les aléas sportifs et extra-sportifs. \nIls chantent\, sur une rythmique électro enrichie d’instruments latinos\, ce stade\, les joueurs qui ont marqué la ville\, cette finale de 76. \nLes textes sont impressionnants par leur précision sportive\, leur pertinence sociologique et leur enthousiasme pour une époque toujours très présente dans toutes les mémoires. \nTarif   12€ .
URL:https://www.sortir43.com/evenement/poto-carre/
LOCATION:Arsac-en-Velay\, Arsac-en-Velay\, 43700\, France
CATEGORIES:Spectacles
ATTACH;FMTTYPE=image/jpeg:https://www.sortir43.com/wp-content/uploads/2026/02/Poto-carre.jpg
END:VEVENT
END:VCALENDAR