BEGIN:VCALENDAR
VERSION:2.0
PRODID:-//Sortir43 - Votre agenda des spectacles, culture, sports et loisirs - ECPv5.11.0//NONSGML v1.0//EN
CALSCALE:GREGORIAN
METHOD:PUBLISH
X-WR-CALNAME:Sortir43 - Votre agenda des spectacles, culture, sports et loisirs
X-ORIGINAL-URL:https://www.sortir43.com
X-WR-CALDESC:évènements pour Sortir43 - Votre agenda des spectacles, culture, sports et loisirs
BEGIN:VTIMEZONE
TZID:Europe/Paris
BEGIN:DAYLIGHT
TZOFFSETFROM:+0100
TZOFFSETTO:+0200
TZNAME:CEST
DTSTART:20260329T010000
END:DAYLIGHT
BEGIN:STANDARD
TZOFFSETFROM:+0200
TZOFFSETTO:+0100
TZNAME:CET
DTSTART:20261025T010000
END:STANDARD
END:VTIMEZONE
BEGIN:VEVENT
DTSTART;VALUE=DATE:20260430
DTEND;VALUE=DATE:20260501
DTSTAMP:20260423T065438
CREATED:20260302T111624Z
LAST-MODIFIED:20260402T094248Z
UID:72527-1777507200-1777593599@www.sortir43.com
SUMMARY:Moulins\, un patrimoine vivant
DESCRIPTION:Moulins\, un patrimoine vivant\nTable ronde animée par Sébastien Lamy-au-Rousseau. \nA l’occasion de la sortie du « Focus La force hydraulique\, des moulins aux centrales électriques »\, découvrez la richesse de ce patrimoine local méconnu et toujours d’actualité. \nGratuit.
URL:https://www.sortir43.com/evenement/moulins-un-patrimoine-vivant/
LOCATION:Brives-Charensac\, Brives-Charensac\, 43700\, France
CATEGORIES:Conférences
ATTACH;FMTTYPE=image/jpeg:https://www.sortir43.com/wp-content/uploads/2026/03/Moulins-patrimoine-vivant.jpg
END:VEVENT
END:VCALENDAR