BEGIN:VCALENDAR
VERSION:2.0
PRODID:-//Sortir43 - Votre agenda des spectacles, culture, sports et loisirs - ECPv5.11.0//NONSGML v1.0//EN
CALSCALE:GREGORIAN
METHOD:PUBLISH
X-WR-CALNAME:Sortir43 - Votre agenda des spectacles, culture, sports et loisirs
X-ORIGINAL-URL:https://www.sortir43.com
X-WR-CALDESC:évènements pour Sortir43 - Votre agenda des spectacles, culture, sports et loisirs
BEGIN:VTIMEZONE
TZID:Europe/Paris
BEGIN:DAYLIGHT
TZOFFSETFROM:+0100
TZOFFSETTO:+0200
TZNAME:CEST
DTSTART:20260329T010000
END:DAYLIGHT
BEGIN:STANDARD
TZOFFSETFROM:+0200
TZOFFSETTO:+0100
TZNAME:CET
DTSTART:20261025T010000
END:STANDARD
END:VTIMEZONE
BEGIN:VEVENT
DTSTART;VALUE=DATE:20260602
DTEND;VALUE=DATE:20260619
DTSTAMP:20260421T094710
CREATED:20260303T145339Z
LAST-MODIFIED:20260303T165029Z
UID:72963-1780358400-1781827199@www.sortir43.com
SUMMARY:Micro-Folie
DESCRIPTION:Micro-Folie\nDécouvrez le musée numérique : des trésors culturels à portée de clic.
URL:https://www.sortir43.com/evenement/micro-folie-4/
LOCATION:Allègre\, Allègre \, France
CATEGORIES:Expositions
ATTACH;FMTTYPE=image/jpeg:https://www.sortir43.com/wp-content/uploads/2023/06/Micro-Folie-Haute-Loire.jpg
END:VEVENT
END:VCALENDAR