BEGIN:VCALENDAR
VERSION:2.0
PRODID:-//Sortir43 - Votre agenda des spectacles, culture, sports et loisirs - ECPv5.11.0//NONSGML v1.0//EN
CALSCALE:GREGORIAN
METHOD:PUBLISH
X-WR-CALNAME:Sortir43 - Votre agenda des spectacles, culture, sports et loisirs
X-ORIGINAL-URL:https://www.sortir43.com
X-WR-CALDESC:évènements pour Sortir43 - Votre agenda des spectacles, culture, sports et loisirs
BEGIN:VTIMEZONE
TZID:Europe/Paris
BEGIN:DAYLIGHT
TZOFFSETFROM:+0100
TZOFFSETTO:+0200
TZNAME:CEST
DTSTART:20260329T010000
END:DAYLIGHT
BEGIN:STANDARD
TZOFFSETFROM:+0200
TZOFFSETTO:+0100
TZNAME:CET
DTSTART:20261025T010000
END:STANDARD
END:VTIMEZONE
BEGIN:VEVENT
DTSTART;VALUE=DATE:20260526
DTEND;VALUE=DATE:20260527
DTSTAMP:20260422T192039
CREATED:20260302T110000Z
LAST-MODIFIED:20260302T110000Z
UID:73170-1779753600-1779839999@www.sortir43.com
SUMMARY:Marché de producteurs bio et locaux
DESCRIPTION:Marché de producteurs bio et locaux\nTous les mardis de 17h à 19h.
URL:https://www.sortir43.com/evenement/marche-de-producteurs-bio-et-locaux/2026-05-26/
LOCATION:La Chomette\, La Chomette\, 43230\, France
CATEGORIES:Animations
ATTACH;FMTTYPE=image/jpeg:https://www.sortir43.com/wp-content/uploads/2026/03/Marche-producteurs-GEN.jpg
END:VEVENT
END:VCALENDAR