BEGIN:VCALENDAR
VERSION:2.0
PRODID:-//Sortir43 - Votre agenda des spectacles, culture, sports et loisirs - ECPv5.11.0//NONSGML v1.0//EN
CALSCALE:GREGORIAN
METHOD:PUBLISH
X-WR-CALNAME:Sortir43 - Votre agenda des spectacles, culture, sports et loisirs
X-ORIGINAL-URL:https://www.sortir43.com
X-WR-CALDESC:évènements pour Sortir43 - Votre agenda des spectacles, culture, sports et loisirs
BEGIN:VTIMEZONE
TZID:Europe/Paris
BEGIN:DAYLIGHT
TZOFFSETFROM:+0100
TZOFFSETTO:+0200
TZNAME:CEST
DTSTART:20260329T010000
END:DAYLIGHT
BEGIN:STANDARD
TZOFFSETFROM:+0200
TZOFFSETTO:+0100
TZNAME:CET
DTSTART:20261025T010000
END:STANDARD
END:VTIMEZONE
BEGIN:VEVENT
DTSTART;VALUE=DATE:20260527
DTEND;VALUE=DATE:20260528
DTSTAMP:20260422T160236
CREATED:20260302T105809Z
LAST-MODIFIED:20260403T101550Z
UID:72292-1779840000-1779926399@www.sortir43.com
SUMMARY:Les machines de Sophie
DESCRIPTION:Les machines de Sophie\nAutour d’un atelier d’écriture singulier\, mené par 2 comédiennes et porté par 15 machines à écrire poétiques et farfelues\, il s’agit de découvrir et de se faire surprendre par ce qu’elles ont été capables d’imaginer. \nLes 2 hôtesses dactylo-clowns entrent en scène\, accueillent\, décalent\, lisent\, chantent et invitent le public à écrire. \nTout public dès 10 ans.
URL:https://www.sortir43.com/evenement/les-machines-de-sophie/
LOCATION:Yssingeaux\, Yssingeaux\, 43200\, France
CATEGORIES:Spectacles
ATTACH;FMTTYPE=image/jpeg:https://www.sortir43.com/wp-content/uploads/2026/03/Les-machines-de-Sophie.jpg
END:VEVENT
END:VCALENDAR