BEGIN:VCALENDAR
VERSION:2.0
PRODID:-//Sortir43 - Votre agenda des spectacles, culture, sports et loisirs - ECPv5.11.0//NONSGML v1.0//EN
CALSCALE:GREGORIAN
METHOD:PUBLISH
X-WR-CALNAME:Sortir43 - Votre agenda des spectacles, culture, sports et loisirs
X-ORIGINAL-URL:https://www.sortir43.com
X-WR-CALDESC:évènements pour Sortir43 - Votre agenda des spectacles, culture, sports et loisirs
BEGIN:VTIMEZONE
TZID:Europe/Paris
BEGIN:DAYLIGHT
TZOFFSETFROM:+0100
TZOFFSETTO:+0200
TZNAME:CEST
DTSTART:20260329T010000
END:DAYLIGHT
BEGIN:STANDARD
TZOFFSETFROM:+0200
TZOFFSETTO:+0100
TZNAME:CET
DTSTART:20261025T010000
END:STANDARD
END:VTIMEZONE
BEGIN:VEVENT
DTSTART;VALUE=DATE:20260522
DTEND;VALUE=DATE:20260526
DTSTAMP:20260421T130007
CREATED:20260302T105807Z
LAST-MODIFIED:20260402T155057Z
UID:72284-1779408000-1779753599@www.sortir43.com
SUMMARY:Les Escales Brivadoises
DESCRIPTION:Les Escales Brivadoises\n6 concerts dans 6 lieux\, sur le thème « Grandeur Nature ».\nDir. artistique : Gersende Mondani \n• Vendredi 22 mai à 20h30 (abbaye de Lavaudieu) : concert d’ouverture « Les Huit Saisons »\, avec Domi Emorine et l’Ensemble Musical des Escales \n• Samedi 23 mai à 10h et 11h15 (Le Doyenné\, Brioude) : café musique\, avec Marielle Nordmann (harpe).\nA 18h30 (Roseraie du Château de Chavaniac-Lafayette) : concert itinérant « Violons au fil des roses ».\nA 20h30 (Abbatiale de Blesle) : concert « Autour de l’Alchimiste » avec Paulo Coelho / Marielle Nordmann (harpe) et Eduardo Garcia (bandonéon) \n• Dimanche 24 mai à 10h : randonnée de 15km au départ de La Bageasse\, Vieille-Brioude. \nA 17h : concert « L’Homme qui plantait des arbres » Capella Forensis (La Bageasse\, Vieille-Brioude) \n• Lundi 25 mai à 10h30 (Jardins de la Sapinière\, Brioude) : Capucine\, concert jeune public (piano-voix et ateliers écolo musicaux). \nRenseignements et réservations
URL:https://www.sortir43.com/evenement/les-escales-brivadoises/
LOCATION:Lavaudieu\, Lavaudieu\, 43100\, France
CATEGORIES:Spectacles
ATTACH;FMTTYPE=image/jpeg:https://www.sortir43.com/wp-content/uploads/2026/03/Escales-brivadoises.jpg
END:VEVENT
END:VCALENDAR