BEGIN:VCALENDAR
VERSION:2.0
PRODID:-//Sortir43 - Votre agenda des spectacles, culture, sports et loisirs - ECPv5.11.0//NONSGML v1.0//EN
CALSCALE:GREGORIAN
METHOD:PUBLISH
X-WR-CALNAME:Sortir43 - Votre agenda des spectacles, culture, sports et loisirs
X-ORIGINAL-URL:https://www.sortir43.com
X-WR-CALDESC:évènements pour Sortir43 - Votre agenda des spectacles, culture, sports et loisirs
BEGIN:VTIMEZONE
TZID:Europe/Paris
BEGIN:DAYLIGHT
TZOFFSETFROM:+0100
TZOFFSETTO:+0200
TZNAME:CEST
DTSTART:20260329T010000
END:DAYLIGHT
BEGIN:STANDARD
TZOFFSETFROM:+0200
TZOFFSETTO:+0100
TZNAME:CET
DTSTART:20261025T010000
END:STANDARD
END:VTIMEZONE
BEGIN:VEVENT
DTSTART;VALUE=DATE:20260607
DTEND;VALUE=DATE:20260608
DTSTAMP:20260422T175637
CREATED:20260302T112118Z
LAST-MODIFIED:20260409T081311Z
UID:72716-1780790400-1780876799@www.sortir43.com
SUMMARY:Les enfants avant tout
DESCRIPTION:Les enfants avant tout\nJournée humanitaire.  \n• De 9h à 16h : Randonnées pédestres de 4\, 11 et 15 Km pour découvrir Aurec/Loire et ses hauteurs.\n• 13h30 – 17h : concert gratuit.\n• 15h : tournoi de Molkky \nSur place Bar – Snack – Activités enfants \nParticipation libre.
URL:https://www.sortir43.com/evenement/les-enfants-avant-tout-2/
LOCATION:Aurec-sur-Loire\, Château-Musée du Moine Sacristain - Rue des Marronniers\, Aurec-sur-Loire\, 42100\, France
CATEGORIES:Animations,Sports-Loisirs
ATTACH;FMTTYPE=image/jpeg:https://www.sortir43.com/wp-content/uploads/2026/03/Journee-Humanitaire-les-enfants-avant-tout.jpg
END:VEVENT
END:VCALENDAR