BEGIN:VCALENDAR
VERSION:2.0
PRODID:-//Sortir43 - Votre agenda des spectacles, culture, sports et loisirs - ECPv5.11.0//NONSGML v1.0//EN
CALSCALE:GREGORIAN
METHOD:PUBLISH
X-WR-CALNAME:Sortir43 - Votre agenda des spectacles, culture, sports et loisirs
X-ORIGINAL-URL:https://www.sortir43.com
X-WR-CALDESC:évènements pour Sortir43 - Votre agenda des spectacles, culture, sports et loisirs
BEGIN:VTIMEZONE
TZID:Europe/Paris
BEGIN:DAYLIGHT
TZOFFSETFROM:+0100
TZOFFSETTO:+0200
TZNAME:CEST
DTSTART:20260329T010000
END:DAYLIGHT
BEGIN:STANDARD
TZOFFSETFROM:+0200
TZOFFSETTO:+0100
TZNAME:CET
DTSTART:20261025T010000
END:STANDARD
END:VTIMEZONE
BEGIN:VEVENT
DTSTART;VALUE=DATE:20260428
DTEND;VALUE=DATE:20260429
DTSTAMP:20260422T223129
CREATED:20260302T105804Z
LAST-MODIFIED:20260401T160615Z
UID:72273-1777334400-1777420799@www.sortir43.com
SUMMARY:L'envol
DESCRIPTION:L’envol\nA la frontière entre réalisme et absurde\, l’Envol dresse le constat satirique d’une société débordante d’injonctions de genre\, où les femmes comme les hommes ne sont pas épargnés. \nTarif : de 5 à 15 €.
URL:https://www.sortir43.com/evenement/lenvol/
LOCATION:Monistrol-sur-Loire\, Monistrol-sur-Loire\, 43120\, France
CATEGORIES:Spectacles
ATTACH;FMTTYPE=image/jpeg:https://www.sortir43.com/wp-content/uploads/2026/03/L-envol.jpg
END:VEVENT
END:VCALENDAR