BEGIN:VCALENDAR
VERSION:2.0
PRODID:-//Sortir43 - Votre agenda des spectacles, culture, sports et loisirs - ECPv5.11.0//NONSGML v1.0//EN
CALSCALE:GREGORIAN
METHOD:PUBLISH
X-WR-CALNAME:Sortir43 - Votre agenda des spectacles, culture, sports et loisirs
X-ORIGINAL-URL:https://www.sortir43.com
X-WR-CALDESC:évènements pour Sortir43 - Votre agenda des spectacles, culture, sports et loisirs
BEGIN:VTIMEZONE
TZID:Europe/Paris
BEGIN:DAYLIGHT
TZOFFSETFROM:+0100
TZOFFSETTO:+0200
TZNAME:CEST
DTSTART:20260329T010000
END:DAYLIGHT
BEGIN:STANDARD
TZOFFSETFROM:+0200
TZOFFSETTO:+0100
TZNAME:CET
DTSTART:20261025T010000
END:STANDARD
END:VTIMEZONE
BEGIN:VEVENT
DTSTART;VALUE=DATE:20260602
DTEND;VALUE=DATE:20260605
DTSTAMP:20260421T043327
CREATED:20260302T105812Z
LAST-MODIFIED:20260407T125610Z
UID:72306-1780358400-1780617599@www.sortir43.com
SUMMARY:Le sang du glacier - Opéra itinérant
DESCRIPTION:Le sang du glacier – Opéra itinérant\n\nUne forme lyrique et musicale intime\, entre dystopie et conte fantastique\, l’opéra Le Sang du glacier nous plonge dans un monde contemporain où la fonte des glaces libère des algues rouges qui en aval contaminent les eaux des fleuves. \n\n\nC’est aussi l’histoire des retrouvailles d’une famille déboussolée par des événements qu’elle ne contrôle plus dans cette grande histoire du climat et d’humanité ; c’est la quête d’une réconciliation entre le passé et le présent\, entre nous et la planète. \nOpéra en 1 acte\nMusique de Claire-Mélanie Sinnhuber\, livret de Lucie Vérot Solaure\, mise en scène de Angélique Clairand\nSolistes : soprano et baryton – Ensemble instrumental : harpe\, accordéon et violoncelle \nLe Sang du glacier\, est une commande de l’Opéra de Lyon à l’autrice Lucie Vérot Solaure\, la compositrice Claire-Mélanie Sinnhuber et la metteuse en scène Angélique Clairand. \nAprès sa création au Théâtre du Point du Jour à Lyon la saison dernière et le succès d’une première itinérance de neuf semaines de janvier à mars 2025 dans les départements de l’Allier\, de la Loire\, de l’Ardèche\, du Rhône\, de la Drôme et de l’Ain\, le camion Opéra reprend la route pour faire découvrir dans d’autres villes cette proposition artistique. Cette seconde itinérance est l’occasion de partager plus particulièrement avec les lycéens l’opéra proposé puisqu’il sera accueilli par plusieurs établissements avec l’étroite collaboration de l’Académie de Lyon et Grenoble. \nLe dispositif\nLe Sang du glacier sera joué dans un Camion-Opéra. La structure du Camion-Opéra est pour cela composée de trois modules adaptables : une scène\, des gradins et une extension en forme de chapiteau disposant d’un espace d’accueil pour le public. Chaque semaine\, sur un territoire différent d’Auvergne-Rhône-Alpes\, il s’installera dans une ville ou un village. \nCommande de l’Opéra de Lyon\, création mondiale 2024\nProduction de l’Opéra de Lyon\, en coproduction avec le Théâtre du Point du Jour\nProposé en partenariat avec la Région Auvergne-Rhône-Alpes\nAvec le soutien du CIC Lyonnaise de Banque\, la CNR\, le Fonds de Création Lyrique et Copie Privée\nTarif : 7 à 14 €. \n\nRenseignements et réservation ici
URL:https://www.sortir43.com/evenement/le-sang-du-glacier-opera-itinerant/
LOCATION:Le Puy-en-Velay\, Le Puy-en-Velay\, 43000\, France
CATEGORIES:Spectacles
ATTACH;FMTTYPE=image/jpeg:https://www.sortir43.com/wp-content/uploads/2026/03/camion-opera.jpg
END:VEVENT
END:VCALENDAR