BEGIN:VCALENDAR
VERSION:2.0
PRODID:-//Sortir43 - Votre agenda des spectacles, culture, sports et loisirs - ECPv5.11.0//NONSGML v1.0//EN
CALSCALE:GREGORIAN
METHOD:PUBLISH
X-WR-CALNAME:Sortir43 - Votre agenda des spectacles, culture, sports et loisirs
X-ORIGINAL-URL:https://www.sortir43.com
X-WR-CALDESC:évènements pour Sortir43 - Votre agenda des spectacles, culture, sports et loisirs
BEGIN:VTIMEZONE
TZID:Europe/Paris
BEGIN:DAYLIGHT
TZOFFSETFROM:+0100
TZOFFSETTO:+0200
TZNAME:CEST
DTSTART:20260329T010000
END:DAYLIGHT
BEGIN:STANDARD
TZOFFSETFROM:+0200
TZOFFSETTO:+0100
TZNAME:CET
DTSTART:20261025T010000
END:STANDARD
END:VTIMEZONE
BEGIN:VEVENT
DTSTART;VALUE=DATE:20260606
DTEND;VALUE=DATE:20260607
DTSTAMP:20260422T165848
CREATED:20260302T112117Z
LAST-MODIFIED:20260408T152720Z
UID:72714-1780704000-1780790399@www.sortir43.com
SUMMARY:Le parcours du cœur
DESCRIPTION:Le parcours du cœur\nOrganisé par le club Cœur et Santé et la la Fédération Française de Cardiologie (FFC). \nRandonnée pédestre de 7 Km.  \n\nRavitaillement. \n\n\nLors de cette grande journée\, de nombreuses activités et animations seront proposées.\nL’occasion de passer un moment convivial et de sensibiliser le public aux maladies cardio-vasculaires. \n\nPas d’inscription.
URL:https://www.sortir43.com/evenement/le-parcours-du-coeur/
LOCATION:Le Puy-en-Velay\, Le Puy-en-Velay\, 43000\, France
CATEGORIES:Sports-Loisirs
ATTACH;FMTTYPE=image/jpeg:https://www.sortir43.com/wp-content/uploads/2026/03/Parcours-du-coeur.jpg
END:VEVENT
END:VCALENDAR