BEGIN:VCALENDAR
VERSION:2.0
PRODID:-//Sortir43 - Votre agenda des spectacles, culture, sports et loisirs - ECPv5.11.0//NONSGML v1.0//EN
CALSCALE:GREGORIAN
METHOD:PUBLISH
X-WR-CALNAME:Sortir43 - Votre agenda des spectacles, culture, sports et loisirs
X-ORIGINAL-URL:https://www.sortir43.com
X-WR-CALDESC:évènements pour Sortir43 - Votre agenda des spectacles, culture, sports et loisirs
BEGIN:VTIMEZONE
TZID:Europe/Paris
BEGIN:DAYLIGHT
TZOFFSETFROM:+0100
TZOFFSETTO:+0200
TZNAME:CEST
DTSTART:20260329T010000
END:DAYLIGHT
BEGIN:STANDARD
TZOFFSETFROM:+0200
TZOFFSETTO:+0100
TZNAME:CET
DTSTART:20261025T010000
END:STANDARD
END:VTIMEZONE
BEGIN:VEVENT
DTSTART;VALUE=DATE:20260311
DTEND;VALUE=DATE:20260312
DTSTAMP:20260422T191733
CREATED:20260302T111602Z
LAST-MODIFIED:20260304T150058Z
UID:72489-1773187200-1773273599@www.sortir43.com
SUMMARY:L'art brut\, art autodidacte
DESCRIPTION:L’art brut\, art autodidacte\nPrésentation à partir des ressources numériques du dispositif innovant Micro-Folie. \nDans le cadre de « Mars prend ses quartiers ». \nGratuit.
URL:https://www.sortir43.com/evenement/lart-brut-art-autodidacte/
LOCATION:Brioude\, Brioude\, 43100\, France
CATEGORIES:Conférences
ATTACH;FMTTYPE=image/jpeg:https://www.sortir43.com/wp-content/uploads/2026/03/Mars-prend-ses-quartiers.jpg
END:VEVENT
END:VCALENDAR