BEGIN:VCALENDAR
VERSION:2.0
PRODID:-//Sortir43 - Votre agenda des spectacles, culture, sports et loisirs - ECPv5.11.0//NONSGML v1.0//EN
CALSCALE:GREGORIAN
METHOD:PUBLISH
X-WR-CALNAME:Sortir43 - Votre agenda des spectacles, culture, sports et loisirs
X-ORIGINAL-URL:https://www.sortir43.com
X-WR-CALDESC:évènements pour Sortir43 - Votre agenda des spectacles, culture, sports et loisirs
BEGIN:VTIMEZONE
TZID:Europe/Paris
BEGIN:DAYLIGHT
TZOFFSETFROM:+0100
TZOFFSETTO:+0200
TZNAME:CEST
DTSTART:20250330T010000
END:DAYLIGHT
BEGIN:STANDARD
TZOFFSETFROM:+0200
TZOFFSETTO:+0100
TZNAME:CET
DTSTART:20251026T010000
END:STANDARD
END:VTIMEZONE
BEGIN:VEVENT
DTSTART;VALUE=DATE:20250801
DTEND;VALUE=DATE:20250802
DTSTAMP:20260422T172939
CREATED:20250611T100546Z
LAST-MODIFIED:20250725T060920Z
UID:61304-1754006400-1754092799@www.sortir43.com
SUMMARY:Lafayette et son village
DESCRIPTION:Visite scénarisée proposée par l’association Lafayette et Liberté.\nTarif : 5 €\, gratuit -12 ans.
URL:https://www.sortir43.com/evenement/lafayette-et-son-village/
LOCATION:Chavaniac-Lafayette\, Chavaniac-Lafayette\, 43230\, France
CATEGORIES:Animations
ATTACH;FMTTYPE=image/jpeg:https://www.sortir43.com/wp-content/uploads/2021/07/Visites-theatre-Lafayette_1.jpg
END:VEVENT
END:VCALENDAR