BEGIN:VCALENDAR
VERSION:2.0
PRODID:-//Sortir43 - Votre agenda des spectacles, culture, sports et loisirs - ECPv5.11.0//NONSGML v1.0//EN
CALSCALE:GREGORIAN
METHOD:PUBLISH
X-WR-CALNAME:Sortir43 - Votre agenda des spectacles, culture, sports et loisirs
X-ORIGINAL-URL:https://www.sortir43.com
X-WR-CALDESC:évènements pour Sortir43 - Votre agenda des spectacles, culture, sports et loisirs
BEGIN:VTIMEZONE
TZID:Europe/Paris
BEGIN:DAYLIGHT
TZOFFSETFROM:+0100
TZOFFSETTO:+0200
TZNAME:CEST
DTSTART:20260329T010000
END:DAYLIGHT
BEGIN:STANDARD
TZOFFSETFROM:+0200
TZOFFSETTO:+0100
TZNAME:CET
DTSTART:20261025T010000
END:STANDARD
END:VTIMEZONE
BEGIN:VEVENT
DTSTART;TZID=Europe/Paris:20260423T200000
DTEND;TZID=Europe/Paris:20260423T213000
DTSTAMP:20260421T060831
CREATED:20260219T072058Z
LAST-MODIFIED:20260219T072159Z
UID:71965-1776974400-1776979800@www.sortir43.com
SUMMARY:La Mère Lapic vous enfume
DESCRIPTION:Spectacle « La Mère Lapic vous enfume »\nAvant dernière représentation locale avant sa participation tous les soirs au festival OFF d’Avignon 2026\nDernière représentation locale avant 3 semaines de spectacles quotidiens au festival off d’Avignon 2026 \nMadame Lapic est professeure… et apicultrice. Autant dire qu’elle sait manier aussi bien le tableau noir que l’enfumoir. Dans un cours totalement décalé\, elle embarque le public dans l’univers fascinant des abeilles pour mieux parler de nous\, les humains.\nEntre vérités scientifiques\, digressions improbables et comparaisons savoureusement piquantes\, elle démonte nos idées reçues\, observe nos comportements et met en lumière les étranges ressemblances entre la ruche et la société. Ici\, on parle d’antennes\, de danse\, de hiérarchie\, de mâles\, d’épilation\, d’agriculture… et de ce monde un peu fou que nous partageons avec les pollinisateurs. \nAvec un humour moqueur mais jamais méchant\, Madame Lapic transforme la vulgarisation en terrain de jeu. Le burlesque côtoie la rigueur scientifique\, la tendresse se glisse derrière la satire\, et l’engagement écologique se transmet sans jamais donner de leçon.\nCe seule-en-scène piquant et joyeusement engagé fait rire\, réfléchir et apprendre — vraiment. On en ressort le sourire aux lèvres\, la tête pleine de connaissances… et l’envie irrépressible de regarder les abeilles (et les humains) autrement. \nSpectacle suivi d’une vente de miels locaux – Pour l’association Drôles de Reines
URL:https://www.sortir43.com/evenement/la-mere-lapic-vous-enfume-7/
LOCATION:Le Puy-en-Velay\, Le Puy-en-Velay\, 43000\, France
CATEGORIES:Spectacles
ATTACH;FMTTYPE=image/png:https://www.sortir43.com/wp-content/uploads/2026/02/Le-Puy-en-Velay.png
END:VEVENT
END:VCALENDAR