BEGIN:VCALENDAR
VERSION:2.0
PRODID:-//Sortir43 - Votre agenda des spectacles, culture, sports et loisirs - ECPv5.11.0//NONSGML v1.0//EN
CALSCALE:GREGORIAN
METHOD:PUBLISH
X-WR-CALNAME:Sortir43 - Votre agenda des spectacles, culture, sports et loisirs
X-ORIGINAL-URL:https://www.sortir43.com
X-WR-CALDESC:évènements pour Sortir43 - Votre agenda des spectacles, culture, sports et loisirs
BEGIN:VTIMEZONE
TZID:Europe/Paris
BEGIN:DAYLIGHT
TZOFFSETFROM:+0100
TZOFFSETTO:+0200
TZNAME:CEST
DTSTART:20260329T010000
END:DAYLIGHT
BEGIN:STANDARD
TZOFFSETFROM:+0200
TZOFFSETTO:+0100
TZNAME:CET
DTSTART:20261025T010000
END:STANDARD
END:VTIMEZONE
BEGIN:VEVENT
DTSTART;VALUE=DATE:20260424
DTEND;VALUE=DATE:20260615
DTSTAMP:20260425T125921
CREATED:20260303T145329Z
LAST-MODIFIED:20260423T090354Z
UID:72946-1776988800-1781481599@www.sortir43.com
SUMMARY:Histoire naturelle
DESCRIPTION:Histoire naturelle\nExposition par Armel Jullien et Carolo.\nInspiré par Velazquez et la nature\, Armel Jullien\, peintre\, réalise ses œuvres à la peinture à l’huile sur toile de lin. \nCarolo\, sculptrice\, utilise la bouse de vache pour réaliser ses sculptures inspirées du monde animal et de la vie à la montagne\, au contact d’une nature sauvage et franche. \nEntrée libre aux heures d’ouverture.
URL:https://www.sortir43.com/evenement/histoire-naturelle/
LOCATION:Le Puy-en-Velay\, Le Puy-en-Velay\, 43000\, France
CATEGORIES:Expositions
ATTACH;FMTTYPE=image/jpeg:https://www.sortir43.com/wp-content/uploads/2026/03/Histoire-naturelle.jpg
END:VEVENT
END:VCALENDAR