BEGIN:VCALENDAR
VERSION:2.0
PRODID:-//Sortir43 - Votre agenda des spectacles, culture, sports et loisirs - ECPv5.11.0//NONSGML v1.0//EN
CALSCALE:GREGORIAN
METHOD:PUBLISH
X-WR-CALNAME:Sortir43 - Votre agenda des spectacles, culture, sports et loisirs
X-ORIGINAL-URL:https://www.sortir43.com
X-WR-CALDESC:évènements pour Sortir43 - Votre agenda des spectacles, culture, sports et loisirs
BEGIN:VTIMEZONE
TZID:Europe/Paris
BEGIN:DAYLIGHT
TZOFFSETFROM:+0100
TZOFFSETTO:+0200
TZNAME:CEST
DTSTART:20260329T010000
END:DAYLIGHT
BEGIN:STANDARD
TZOFFSETFROM:+0200
TZOFFSETTO:+0100
TZNAME:CET
DTSTART:20261025T010000
END:STANDARD
END:VTIMEZONE
BEGIN:VEVENT
DTSTART;VALUE=DATE:20260502
DTEND;VALUE=DATE:20260503
DTSTAMP:20260421T101427
CREATED:20260302T110054Z
LAST-MODIFIED:20260402T123216Z
UID:72443-1777680000-1777766399@www.sortir43.com
SUMMARY:Grande Foire de Printemps
DESCRIPTION:Grande Foire de Printemps.\nEn plus du marché traditionnel\, découvrez vêtements\, décoration\, produits locaux\, animaux\, matériel agricole et automobiles\, dans une ambiance conviviale au cœur du Haut-Velay.
URL:https://www.sortir43.com/evenement/grande-foire-de-printemps-2/
LOCATION:Craponne-sur-Arzon\, Craponne-sur-Arzon\, 43500\, France
CATEGORIES:Animations
ATTACH;FMTTYPE=image/jpeg:https://www.sortir43.com/wp-content/uploads/2026/03/Foire-Craponne.jpg
END:VEVENT
END:VCALENDAR