BEGIN:VCALENDAR
VERSION:2.0
PRODID:-//Sortir43 - Votre agenda des spectacles, culture, sports et loisirs - ECPv5.11.0//NONSGML v1.0//EN
CALSCALE:GREGORIAN
METHOD:PUBLISH
X-WR-CALNAME:Sortir43 - Votre agenda des spectacles, culture, sports et loisirs
X-ORIGINAL-URL:https://www.sortir43.com
X-WR-CALDESC:évènements pour Sortir43 - Votre agenda des spectacles, culture, sports et loisirs
BEGIN:VTIMEZONE
TZID:Europe/Paris
BEGIN:DAYLIGHT
TZOFFSETFROM:+0100
TZOFFSETTO:+0200
TZNAME:CEST
DTSTART:20260329T010000
END:DAYLIGHT
BEGIN:STANDARD
TZOFFSETFROM:+0200
TZOFFSETTO:+0100
TZNAME:CET
DTSTART:20261025T010000
END:STANDARD
END:VTIMEZONE
BEGIN:VEVENT
DTSTART;VALUE=DATE:20260606
DTEND;VALUE=DATE:20260607
DTSTAMP:20260422T232714
CREATED:20260302T112113Z
LAST-MODIFIED:20260408T145852Z
UID:72708-1780704000-1780790399@www.sortir43.com
SUMMARY:Gala du Rythmique Velay Semène
DESCRIPTION:Gala du Rythmique Velay Semène
URL:https://www.sortir43.com/evenement/gala-du-rythmique-velay-semene/
LOCATION:Pont-Salomon\, Pont-Salomon\, 43300\, France
CATEGORIES:Sports-Loisirs
ATTACH;FMTTYPE=image/jpeg:https://www.sortir43.com/wp-content/uploads/2026/03/gym-danse-GEN.jpg
END:VEVENT
END:VCALENDAR