BEGIN:VCALENDAR
VERSION:2.0
PRODID:-//Sortir43 - Votre agenda des spectacles, culture, sports et loisirs - ECPv5.11.0//NONSGML v1.0//EN
CALSCALE:GREGORIAN
METHOD:PUBLISH
X-WR-CALNAME:Sortir43 - Votre agenda des spectacles, culture, sports et loisirs
X-ORIGINAL-URL:https://www.sortir43.com
X-WR-CALDESC:évènements pour Sortir43 - Votre agenda des spectacles, culture, sports et loisirs
BEGIN:VTIMEZONE
TZID:Europe/Paris
BEGIN:DAYLIGHT
TZOFFSETFROM:+0100
TZOFFSETTO:+0200
TZNAME:CEST
DTSTART:20260329T010000
END:DAYLIGHT
BEGIN:STANDARD
TZOFFSETFROM:+0200
TZOFFSETTO:+0100
TZNAME:CET
DTSTART:20261025T010000
END:STANDARD
END:VTIMEZONE
BEGIN:VEVENT
DTSTART;TZID=Europe/Paris:20260426T070000
DTEND;TZID=Europe/Paris:20260426T170000
DTSTAMP:20260425T140126
CREATED:20260424T095147Z
LAST-MODIFIED:20260424T095257Z
UID:77362-1777186800-1777222800@www.sortir43.com
SUMMARY:Foire à la brocante
DESCRIPTION:Foire à la brocante.\nOrganisée par Collector 63. \nUne trentaine d’exposants professionnels de la région Auvergne-Rhône-Alpes. \nRens. : 06 87 52 34 07.
URL:https://www.sortir43.com/evenement/foire-a-la-brocante/
LOCATION:Le Puy-en-Velay\, Le Puy-en-Velay\, 43000\, France
CATEGORIES:Vide-Greniers
ATTACH;FMTTYPE=image/jpeg:https://www.sortir43.com/wp-content/uploads/2022/06/Vide-grenier-brocante.jpg
END:VEVENT
END:VCALENDAR