BEGIN:VCALENDAR
VERSION:2.0
PRODID:-//Sortir43 - Votre agenda des spectacles, culture, sports et loisirs - ECPv5.11.0//NONSGML v1.0//EN
CALSCALE:GREGORIAN
METHOD:PUBLISH
X-WR-CALNAME:Sortir43 - Votre agenda des spectacles, culture, sports et loisirs
X-ORIGINAL-URL:https://www.sortir43.com
X-WR-CALDESC:évènements pour Sortir43 - Votre agenda des spectacles, culture, sports et loisirs
BEGIN:VTIMEZONE
TZID:Europe/Paris
BEGIN:DAYLIGHT
TZOFFSETFROM:+0100
TZOFFSETTO:+0200
TZNAME:CEST
DTSTART:20250330T010000
END:DAYLIGHT
BEGIN:STANDARD
TZOFFSETFROM:+0200
TZOFFSETTO:+0100
TZNAME:CET
DTSTART:20251026T010000
END:STANDARD
END:VTIMEZONE
BEGIN:VEVENT
DTSTART;VALUE=DATE:20250801
DTEND;VALUE=DATE:20250804
DTSTAMP:20260422T223426
CREATED:20250611T100544Z
LAST-MODIFIED:20250725T055803Z
UID:61301-1754006400-1754265599@www.sortir43.com
SUMMARY:Fête patronale de St-Romain-Lachalm
DESCRIPTION:• Vendredi : concours de pétanque (adultes et enfants) en semi-nocturne au calvaire •\nSamedi : dès 17h\, concert gratuit et repas sur réservation. A 22h30 : retraite aux flambeaux suivie du feu d’artifice à 23h et bal\, fête foraine\n• Dimanche : à 12h animation à la salle des fêtes. A 15h : défilé des chars des classes en 5\, fête foraine. A 19h : soupe aux choux et bal.
URL:https://www.sortir43.com/evenement/fete-patronale-de-st-romain-lachalm/
LOCATION:Saint-Romain-Lachalm\, Saint-Romain-Lachalm\, 43620\, France
CATEGORIES:Animations
ATTACH;FMTTYPE=image/jpeg:https://www.sortir43.com/wp-content/uploads/2024/06/fete-drapeaux.jpg
END:VEVENT
END:VCALENDAR