BEGIN:VCALENDAR
VERSION:2.0
PRODID:-//Sortir43 - Votre agenda des spectacles, culture, sports et loisirs - ECPv5.11.0//NONSGML v1.0//EN
CALSCALE:GREGORIAN
METHOD:PUBLISH
X-WR-CALNAME:Sortir43 - Votre agenda des spectacles, culture, sports et loisirs
X-ORIGINAL-URL:https://www.sortir43.com
X-WR-CALDESC:évènements pour Sortir43 - Votre agenda des spectacles, culture, sports et loisirs
BEGIN:VTIMEZONE
TZID:Europe/Paris
BEGIN:DAYLIGHT
TZOFFSETFROM:+0100
TZOFFSETTO:+0200
TZNAME:CEST
DTSTART:20260329T010000
END:DAYLIGHT
BEGIN:STANDARD
TZOFFSETFROM:+0200
TZOFFSETTO:+0100
TZNAME:CET
DTSTART:20261025T010000
END:STANDARD
END:VTIMEZONE
BEGIN:VEVENT
DTSTART;VALUE=DATE:20260524
DTEND;VALUE=DATE:20260525
DTSTAMP:20260423T000930
CREATED:20260302T110107Z
LAST-MODIFIED:20260407T121643Z
UID:72466-1779580800-1779667199@www.sortir43.com
SUMMARY:Marché aux Plantes
DESCRIPTION:Marché aux Plantes – Esprit jardin\n11e édition organisée par la municipalité du Chambon-sur-Lignon avec le soutien de l’association des Commerçants\, Artisans et Professionnels Libéraux. \nDroit de place gratuit\, mais participation libre souhaitée au profit du Centre Communal d’Action Sociale du Chambon/Lignon.\nEmplacement en extérieur avec accès à un point d’eau\, sans matériel fourni.\nInstallation des exposants à partir de 6 h. Boissons chaudes et viennoiseries offertes.\nParking exposants et visiteurs sur place.\nLa brocante vide-jardin est ouverte aux professionnels et aux particuliers.\nInscription avant le 30 avril 2026. En cas de désistement\, merci de prévenir avant le 15 mai 2026.\nRenseignements 04 71 65 71 90
URL:https://www.sortir43.com/evenement/fete-des-plantes/
LOCATION:Le Chambon-sur-Lignon\, Le Chambon-sur-Lignon\, 43400\, France
CATEGORIES:Animations,Vide-Greniers
ATTACH;FMTTYPE=image/jpeg:https://www.sortir43.com/wp-content/uploads/2026/03/Marche-aux-plantes-Le-Chambon-Lignon.jpg
END:VEVENT
END:VCALENDAR