BEGIN:VCALENDAR
VERSION:2.0
PRODID:-//Sortir43 - Votre agenda des spectacles, culture, sports et loisirs - ECPv5.11.0//NONSGML v1.0//EN
CALSCALE:GREGORIAN
METHOD:PUBLISH
X-WR-CALNAME:Sortir43 - Votre agenda des spectacles, culture, sports et loisirs
X-ORIGINAL-URL:https://www.sortir43.com
X-WR-CALDESC:évènements pour Sortir43 - Votre agenda des spectacles, culture, sports et loisirs
BEGIN:VTIMEZONE
TZID:Europe/Paris
BEGIN:DAYLIGHT
TZOFFSETFROM:+0100
TZOFFSETTO:+0200
TZNAME:CEST
DTSTART:20260329T010000
END:DAYLIGHT
BEGIN:STANDARD
TZOFFSETFROM:+0200
TZOFFSETTO:+0100
TZNAME:CET
DTSTART:20261025T010000
END:STANDARD
END:VTIMEZONE
BEGIN:VEVENT
DTSTART;VALUE=DATE:20260526
DTEND;VALUE=DATE:20260601
DTSTAMP:20260422T205630
CREATED:20260302T105808Z
LAST-MODIFIED:20260403T100803Z
UID:72290-1779753600-1780271999@www.sortir43.com
SUMMARY:Festival Grains de Scène
DESCRIPTION:Festival Grains de Scène\n30e édition. \nChaque année\, des troupes de théâtre amateur et des scolaires passionnés de théâtre se réunissent pour partager des spectacles riches en émotions et en créativité. \nProgramme à partir du mois de mai ici
URL:https://www.sortir43.com/evenement/festival-grains-de-scene/
LOCATION:Le Puy-en-Velay\, Le Puy-en-Velay\, 43000\, France
CATEGORIES:Spectacles
ATTACH;FMTTYPE=image/jpeg:https://www.sortir43.com/wp-content/uploads/2026/03/Theatre-enfants-GEN.jpg
END:VEVENT
END:VCALENDAR