BEGIN:VCALENDAR
VERSION:2.0
PRODID:-//Sortir43 - Votre agenda des spectacles, culture, sports et loisirs - ECPv5.11.0//NONSGML v1.0//EN
CALSCALE:GREGORIAN
METHOD:PUBLISH
X-WR-CALNAME:Sortir43 - Votre agenda des spectacles, culture, sports et loisirs
X-ORIGINAL-URL:https://www.sortir43.com
X-WR-CALDESC:évènements pour Sortir43 - Votre agenda des spectacles, culture, sports et loisirs
BEGIN:VTIMEZONE
TZID:Europe/Paris
BEGIN:DAYLIGHT
TZOFFSETFROM:+0100
TZOFFSETTO:+0200
TZNAME:CEST
DTSTART:20250330T010000
END:DAYLIGHT
BEGIN:STANDARD
TZOFFSETFROM:+0200
TZOFFSETTO:+0100
TZNAME:CET
DTSTART:20251026T010000
END:STANDARD
END:VTIMEZONE
BEGIN:VEVENT
DTSTART;VALUE=DATE:20250801
DTEND;VALUE=DATE:20250803
DTSTAMP:20260422T160220
CREATED:20250611T100547Z
LAST-MODIFIED:20250725T061319Z
UID:61305-1754006400-1754179199@www.sortir43.com
SUMMARY:Festival de la Soupe
DESCRIPTION:19e édition organisée par Les Compagnons de Chapteuil sur le thème des îles.\nDégustez des soupes servies à volonté\, accompagnées de charcuteries\, fromages\, dessert.\nApéritif offert. \nTarif : 15 € (1 € reversé à la recherche contre le cancer).
URL:https://www.sortir43.com/evenement/festival-de-la-soupe/
LOCATION:Saint-Julien-Chapteuil\, Saint-Julien-Chapteuil\, 43260\, France
CATEGORIES:Animations
ATTACH;FMTTYPE=image/jpeg:https://www.sortir43.com/wp-content/uploads/2025/06/soupe.jpg
END:VEVENT
END:VCALENDAR