BEGIN:VCALENDAR
VERSION:2.0
PRODID:-//Sortir43 - Votre agenda des spectacles, culture, sports et loisirs - ECPv5.11.0//NONSGML v1.0//EN
CALSCALE:GREGORIAN
METHOD:PUBLISH
X-WR-CALNAME:Sortir43 - Votre agenda des spectacles, culture, sports et loisirs
X-ORIGINAL-URL:https://www.sortir43.com
X-WR-CALDESC:évènements pour Sortir43 - Votre agenda des spectacles, culture, sports et loisirs
BEGIN:VTIMEZONE
TZID:Europe/Paris
BEGIN:DAYLIGHT
TZOFFSETFROM:+0100
TZOFFSETTO:+0200
TZNAME:CEST
DTSTART:20260329T010000
END:DAYLIGHT
BEGIN:STANDARD
TZOFFSETFROM:+0200
TZOFFSETTO:+0100
TZNAME:CET
DTSTART:20261025T010000
END:STANDARD
END:VTIMEZONE
BEGIN:VEVENT
DTSTART;VALUE=DATE:20260704
DTEND;VALUE=DATE:20261102
DTSTAMP:20260421T115739
CREATED:20260420T075404Z
LAST-MODIFIED:20260420T075520Z
UID:75506-1783123200-1793577599@www.sortir43.com
SUMMARY:Exposition temporaire Lafayette\, l’aventure américaine (1776-1781)
DESCRIPTION:Lafayette\, l’aventure américaine (1776-1781)\nDécouvrez le destin d’un enfant de Haute-Loire devenu Héros des Deux Mondes. \nL’exposition met en lumière le rôle essentiel du Marquis de Lafayette dans la guerre d’indépendance américaine. \nCette exposition s’accompagne d’une exposition Playmobil® avec des reconstitutions de scènes de la vie du marquis et de la Guerre d’Indépendance. \nInclus dans le billet d’entrée du château. \nRenseignements : 04 71 77 50 32 ou par mail ici
URL:https://www.sortir43.com/evenement/exposition-temporaire-lafayette-laventure-americaine-1776-1781/
LOCATION:Chavaniac-Lafayette\, Chavaniac-Lafayette\, 43230\, France
CATEGORIES:Expositions
ATTACH;FMTTYPE=image/jpeg:https://www.sortir43.com/wp-content/uploads/2026/04/MEP_AFFICHE-EXPO-CHAVANIAC-2026.jpg
ORGANIZER;CN="Ch%26acirc%3Bteau%20de%20Chavaniac-Lafayette%20-%20D%26eacute%3Bpartement%20de%20la%20Haute-Loire":MAILTO:chateau-lafayette@hauteloire.fr
END:VEVENT
END:VCALENDAR