BEGIN:VCALENDAR
VERSION:2.0
PRODID:-//Sortir43 - Votre agenda des spectacles, culture, sports et loisirs - ECPv5.11.0//NONSGML v1.0//EN
CALSCALE:GREGORIAN
METHOD:PUBLISH
X-WR-CALNAME:Sortir43 - Votre agenda des spectacles, culture, sports et loisirs
X-ORIGINAL-URL:https://www.sortir43.com
X-WR-CALDESC:évènements pour Sortir43 - Votre agenda des spectacles, culture, sports et loisirs
BEGIN:VTIMEZONE
TZID:Europe/Paris
BEGIN:DAYLIGHT
TZOFFSETFROM:+0100
TZOFFSETTO:+0200
TZNAME:CEST
DTSTART:20260329T010000
END:DAYLIGHT
BEGIN:STANDARD
TZOFFSETFROM:+0200
TZOFFSETTO:+0100
TZNAME:CET
DTSTART:20261025T010000
END:STANDARD
END:VTIMEZONE
BEGIN:VEVENT
DTSTART;VALUE=DATE:20260522
DTEND;VALUE=DATE:20260523
DTSTAMP:20260422T174419
CREATED:20260302T111632Z
LAST-MODIFIED:20260403T072143Z
UID:72541-1779408000-1779494399@www.sortir43.com
SUMMARY:Développement langagier et bébé signes
DESCRIPTION:Développement langagier et bébé signes\nDiscussion et échanges entre parents. \nGratuit. \nSur inscription.
URL:https://www.sortir43.com/evenement/developpement-langagier-et-bebe-signes/
LOCATION:Paulhaguet\, Paulhaguet\, 43230\, France
CATEGORIES:Conférences
ATTACH;FMTTYPE=image/jpeg:https://www.sortir43.com/wp-content/uploads/2026/03/Discussion-rencontre-GEN.jpg
END:VEVENT
END:VCALENDAR