BEGIN:VCALENDAR
VERSION:2.0
PRODID:-//Sortir43 - Votre agenda des spectacles, culture, sports et loisirs - ECPv5.11.0//NONSGML v1.0//EN
CALSCALE:GREGORIAN
METHOD:PUBLISH
X-WR-CALNAME:Sortir43 - Votre agenda des spectacles, culture, sports et loisirs
X-ORIGINAL-URL:https://www.sortir43.com
X-WR-CALDESC:évènements pour Sortir43 - Votre agenda des spectacles, culture, sports et loisirs
BEGIN:VTIMEZONE
TZID:Europe/Paris
BEGIN:DAYLIGHT
TZOFFSETFROM:+0100
TZOFFSETTO:+0200
TZNAME:CEST
DTSTART:20260329T010000
END:DAYLIGHT
BEGIN:STANDARD
TZOFFSETFROM:+0200
TZOFFSETTO:+0100
TZNAME:CET
DTSTART:20261025T010000
END:STANDARD
END:VTIMEZONE
BEGIN:VEVENT
DTSTART;TZID=Europe/Paris:20260426T090000
DTEND;TZID=Europe/Paris:20260426T123000
DTSTAMP:20260425T140126
CREATED:20260422T072040Z
LAST-MODIFIED:20260422T072040Z
UID:77187-1777194000-1777206600@www.sortir43.com
SUMMARY:Découverte et dégustation des champignons et plantes sauvages autour du lac de Devesset
DESCRIPTION:Découverte et dégustation des champignons et plantes sauvages autour du lac de Devesset\nAtelier exceptionnel co-animé avec Jérôme Legros\, mycologue et cueilleur pour les maisons Marcon et Charlie Braesch\, praticien en ethnobotanique.\nCette matinée sera dédiée à la reconnaissance de champignons et plantes sauvages de saison. Nous aborderons les outils nécessaires pour éviter les confusions et connaître les espèces comestibles\, médicinales ou utilitaires et les toxiques.\nBien entendu nous sensibiliserons à une cueillette durable\, respectant les populations fongiques et végétales.\nNous terminerons par un apéritif savoureux mettant en valeur les saveurs insoupçonnées des plantes sauvages.\nIl peut être utile de prendre de quoi noter\, et de faire sien l’adage scandinave suivant : « Il n’y a pas de mauvais temps mais des habits mal adaptés ». \nTarif : 48€ dégustation comprise.
URL:https://www.sortir43.com/evenement/decouverte-et-degustation-des-champignons-et-plantes-sauvages-autour-du-lac-de-devesset/
LOCATION:Ardèche (07)\, Ardèche\, 00007\, France
CATEGORIES:Animations,Conférences
ATTACH;FMTTYPE=image/jpeg:https://www.sortir43.com/wp-content/uploads/2026/04/672632362_1238441101610326_1387799642727000581_n.jpg
ORGANIZER;CN="Le%20go%26ucirc%3Bt%20du%20sauvage":MAILTO:legoutdusauvage@gmail.com
END:VEVENT
END:VCALENDAR