BEGIN:VCALENDAR
VERSION:2.0
PRODID:-//Sortir43 - Votre agenda des spectacles, culture, sports et loisirs - ECPv5.11.0//NONSGML v1.0//EN
CALSCALE:GREGORIAN
METHOD:PUBLISH
X-WR-CALNAME:Sortir43 - Votre agenda des spectacles, culture, sports et loisirs
X-ORIGINAL-URL:https://www.sortir43.com
X-WR-CALDESC:évènements pour Sortir43 - Votre agenda des spectacles, culture, sports et loisirs
BEGIN:VTIMEZONE
TZID:Europe/Paris
BEGIN:DAYLIGHT
TZOFFSETFROM:+0100
TZOFFSETTO:+0200
TZNAME:CEST
DTSTART:20260329T010000
END:DAYLIGHT
BEGIN:STANDARD
TZOFFSETFROM:+0200
TZOFFSETTO:+0100
TZNAME:CET
DTSTART:20261025T010000
END:STANDARD
END:VTIMEZONE
BEGIN:VEVENT
DTSTART;VALUE=DATE:20260513
DTEND;VALUE=DATE:20260514
DTSTAMP:20260421T080033
CREATED:20260302T111946Z
LAST-MODIFIED:20260302T111946Z
UID:73197-1778630400-1778716799@www.sortir43.com
SUMMARY:Créations et expression
DESCRIPTION:Créations et expression\nAtelier parent-enfant (dès 6 ans). \nPercussions corporelles. \nGratuit sur inscription au 04 71 05 29 76. \nAutres dates :\n• le 22 avril (création de tampons mousse\, dès 5 ans) ;\n• le 13 mai (craies de trottoir\, dès 4 ans) :\n• le 10 juin (photo de famille drôle et décalée\, dans le cadre du mois des familles).
URL:https://www.sortir43.com/evenement/creations-et-expression/2026-05-13/
LOCATION:Chadrac\, Chadrac\, 43770\, France
CATEGORIES:Sports-Loisirs
ATTACH;FMTTYPE=image/jpeg:https://www.sortir43.com/wp-content/uploads/2026/03/création-expression-parent-enfant.jpg
END:VEVENT
END:VCALENDAR