BEGIN:VCALENDAR
VERSION:2.0
PRODID:-//Sortir43 - Votre agenda des spectacles, culture, sports et loisirs - ECPv5.11.0//NONSGML v1.0//EN
CALSCALE:GREGORIAN
METHOD:PUBLISH
X-WR-CALNAME:Sortir43 - Votre agenda des spectacles, culture, sports et loisirs
X-ORIGINAL-URL:https://www.sortir43.com
X-WR-CALDESC:évènements pour Sortir43 - Votre agenda des spectacles, culture, sports et loisirs
BEGIN:VTIMEZONE
TZID:Europe/Paris
BEGIN:DAYLIGHT
TZOFFSETFROM:+0100
TZOFFSETTO:+0200
TZNAME:CEST
DTSTART:20260329T010000
END:DAYLIGHT
BEGIN:STANDARD
TZOFFSETFROM:+0200
TZOFFSETTO:+0100
TZNAME:CET
DTSTART:20261025T010000
END:STANDARD
END:VTIMEZONE
BEGIN:VEVENT
DTSTART;VALUE=DATE:20260518
DTEND;VALUE=DATE:20260601
DTSTAMP:20260421T080208
CREATED:20260303T145334Z
LAST-MODIFIED:20260402T151944Z
UID:72955-1779062400-1780271999@www.sortir43.com
SUMMARY:Création actuelle de Marie Jo Girard
DESCRIPTION:Création actuelle de Marie Jo Girard\nTrès grands formats à propos du corps s’exprimant en danse… \nTrès petits formats\, comme un chemin d’instants de vie fugitifs\, poétiques…
URL:https://www.sortir43.com/evenement/creation-actuelle-de-marie-jo-girard/
LOCATION:Brives-Charensac\, Brives-Charensac\, 43700\, France
CATEGORIES:Expositions
ATTACH;FMTTYPE=image/jpeg:https://www.sortir43.com/wp-content/uploads/2026/03/Marie-Jo-Girard.jpg
END:VEVENT
END:VCALENDAR