BEGIN:VCALENDAR
VERSION:2.0
PRODID:-//Sortir43 - Votre agenda des spectacles, culture, sports et loisirs - ECPv5.11.0//NONSGML v1.0//EN
CALSCALE:GREGORIAN
METHOD:PUBLISH
X-WR-CALNAME:Sortir43 - Votre agenda des spectacles, culture, sports et loisirs
X-ORIGINAL-URL:https://www.sortir43.com
X-WR-CALDESC:évènements pour Sortir43 - Votre agenda des spectacles, culture, sports et loisirs
BEGIN:VTIMEZONE
TZID:Europe/Paris
BEGIN:DAYLIGHT
TZOFFSETFROM:+0100
TZOFFSETTO:+0200
TZNAME:CEST
DTSTART:20260329T010000
END:DAYLIGHT
BEGIN:STANDARD
TZOFFSETFROM:+0200
TZOFFSETTO:+0100
TZNAME:CET
DTSTART:20261025T010000
END:STANDARD
END:VTIMEZONE
BEGIN:VEVENT
DTSTART;VALUE=DATE:20260423
DTEND;VALUE=DATE:20260424
DTSTAMP:20260421T043543
CREATED:20260302T111620Z
LAST-MODIFIED:20260401T080826Z
UID:72521-1776902400-1776988799@www.sortir43.com
SUMMARY:Connaître et reconnaître l'architecture des églises de Haute-Loire
DESCRIPTION:Connaître et reconnaître l’architecture des églises de Haute-Loire\nPar Régis Thomas\, professeur à l’école Normale Supérieure de Lyon. \nConférence Université pour Tous. \nTarif hors abo. : 8 €.
URL:https://www.sortir43.com/evenement/connaitre-et-reconnaitre-larchitecture-des-eglises-de-haute-loire/
LOCATION:Le Puy-en-Velay\, Le Puy-en-Velay\, 43000\, France
CATEGORIES:Conférences
ATTACH;FMTTYPE=image/jpeg:https://www.sortir43.com/wp-content/uploads/2021/12/UPT-Le-Puy.jpg
END:VEVENT
END:VCALENDAR