BEGIN:VCALENDAR
VERSION:2.0
PRODID:-//Sortir43 - Votre agenda des spectacles, culture, sports et loisirs - ECPv5.11.0//NONSGML v1.0//EN
CALSCALE:GREGORIAN
METHOD:PUBLISH
X-WR-CALNAME:Sortir43 - Votre agenda des spectacles, culture, sports et loisirs
X-ORIGINAL-URL:https://www.sortir43.com
X-WR-CALDESC:évènements pour Sortir43 - Votre agenda des spectacles, culture, sports et loisirs
BEGIN:VTIMEZONE
TZID:Europe/Paris
BEGIN:DAYLIGHT
TZOFFSETFROM:+0100
TZOFFSETTO:+0200
TZNAME:CEST
DTSTART:20260329T010000
END:DAYLIGHT
BEGIN:STANDARD
TZOFFSETFROM:+0200
TZOFFSETTO:+0100
TZNAME:CET
DTSTART:20261025T010000
END:STANDARD
END:VTIMEZONE
BEGIN:VEVENT
DTSTART;VALUE=DATE:20260522
DTEND;VALUE=DATE:20260523
DTSTAMP:20260421T141514
CREATED:20260302T105806Z
LAST-MODIFIED:20260402T153908Z
UID:72282-1779408000-1779494399@www.sortir43.com
SUMMARY:Cie Puéril Péril
DESCRIPTION:Cie Puéril Péril\nUn spectacle léger et intimiste\, rempli de joie\, de convivialité et d’humour\, à voir en famille. \n\nUne invitation à la rencontre artistique mais aussi à la rencontre humaine\, entre circassiens\, entre spectateurs\, entre circassiens et spectateurs.\nAppliquant cette maxime qui leur est propre : « À voltiger sans péril\, on chute sans gloire »\, les membres de la compagnie Puéril Péril se lancent dans des prouesses physiques qui défient la hauteur et la gravité. \n\nTarif : 5 à 15 €.
URL:https://www.sortir43.com/evenement/cie-pueril-peril/
LOCATION:Sainte-Sigolène\, Sainte-Sigolene\, 43600\, France
CATEGORIES:Spectacles
ATTACH;FMTTYPE=image/jpeg:https://www.sortir43.com/wp-content/uploads/2026/03/Cie-Pueril-Peril.jpg
END:VEVENT
END:VCALENDAR