BEGIN:VCALENDAR
VERSION:2.0
PRODID:-//Sortir43 - Votre agenda des spectacles, culture, sports et loisirs - ECPv5.11.0//NONSGML v1.0//EN
CALSCALE:GREGORIAN
METHOD:PUBLISH
X-WR-CALNAME:Sortir43 - Votre agenda des spectacles, culture, sports et loisirs
X-ORIGINAL-URL:https://www.sortir43.com
X-WR-CALDESC:évènements pour Sortir43 - Votre agenda des spectacles, culture, sports et loisirs
BEGIN:VTIMEZONE
TZID:Europe/Paris
BEGIN:DAYLIGHT
TZOFFSETFROM:+0100
TZOFFSETTO:+0200
TZNAME:CEST
DTSTART:20260329T010000
END:DAYLIGHT
BEGIN:STANDARD
TZOFFSETFROM:+0200
TZOFFSETTO:+0100
TZNAME:CET
DTSTART:20261025T010000
END:STANDARD
END:VTIMEZONE
BEGIN:VEVENT
DTSTART;TZID=Europe/Paris:20260809T170000
DTEND;TZID=Europe/Paris:20260809T183000
DTSTAMP:20260421T081802
CREATED:20260420T095211Z
LAST-MODIFIED:20260420T095306Z
UID:75544-1786294800-1786300200@www.sortir43.com
SUMMARY:Chants mariaux de l'Arc méditerranéen -  art polyphonique
DESCRIPTION:S’émerveiller au concert des « Chants mariaux de l’Arc méditerranéen » – art polyphonique\nLes chanteuses quercynoises du trio « La Soubirane » (La Souveraine en occitan) se caractérisent par leur excellence artistique… et leur joie de vivre !\nA travers le concert des Chants Mariaux de l’Arc Méditerranéen\, elles choisissent de célébrer le patrimoine musical sacré et populaire\, collecté du IVe au XIXe siècle de la botte italienne jusqu’en Andalousie. Les chants s’ouvrent à l’expression vivante\, pleine de ferveur ou contemplative de la religiosité populaire. \nAu gré de merveilleuses harmonies et dissonances\, La Soubirane vous plonge dans les mystères de chants sacrés et populaires de l’Arc Méditerranéen. \nExtrait de presse : « À la vibrante magie du chant traditionnel polyphonique\, né d’une harmonie naturelle méticuleusement ciselée au fil du temps\, La Soubirane apporte la puissante et envoûtante profondeur du chant sacré. Le point de rencontre entre ces deux mondes : la féminité. » \n15€ plein tarif / 10€ étudiants & demandeurs d’emploi / gratuit moins de 16 ans. \nPrésentation ici \nActualités \nCi-dessous et dans l’encadré\, vous disposez du lien de la e.billetterie sur Helloasso.com – Sur place\, ouverture de la billetterie 1h00 avant le début du concert : accès dans la limite des places disponibles.
URL:https://www.sortir43.com/evenement/chants-mariaux-de-larc-mediterraneen-art-polyphonique/
LOCATION:Le Puy-en-Velay\, Le Puy-en-Velay\, 43000\, France
CATEGORIES:Spectacles
ATTACH;FMTTYPE=image/jpeg:https://www.sortir43.com/wp-content/uploads/2026/04/2024-La-Soubirane-visu-teaz-clair.jpg
END:VEVENT
END:VCALENDAR