BEGIN:VCALENDAR
VERSION:2.0
PRODID:-//Sortir43 - Votre agenda des spectacles, culture, sports et loisirs - ECPv5.11.0//NONSGML v1.0//EN
CALSCALE:GREGORIAN
METHOD:PUBLISH
X-WR-CALNAME:Sortir43 - Votre agenda des spectacles, culture, sports et loisirs
X-ORIGINAL-URL:https://www.sortir43.com
X-WR-CALDESC:évènements pour Sortir43 - Votre agenda des spectacles, culture, sports et loisirs
BEGIN:VTIMEZONE
TZID:Europe/Paris
BEGIN:DAYLIGHT
TZOFFSETFROM:+0100
TZOFFSETTO:+0200
TZNAME:CEST
DTSTART:20260329T010000
END:DAYLIGHT
BEGIN:STANDARD
TZOFFSETFROM:+0200
TZOFFSETTO:+0100
TZNAME:CET
DTSTART:20261025T010000
END:STANDARD
END:VTIMEZONE
BEGIN:VEVENT
DTSTART;VALUE=DATE:20260523
DTEND;VALUE=DATE:20260526
DTSTAMP:20260421T105209
CREATED:20260302T112100Z
LAST-MODIFIED:20260403T075509Z
UID:72685-1779494400-1779753599@www.sortir43.com
SUMMARY:Championnat de pétanque
DESCRIPTION:Championnat de pétanque\nOrganisé par Aurec Pétanque. \n• Samedi à 8h : triplette promotion ; \n• Dimanche : doublette hommes (à 8h) et tête à tête femmes (à 9h) ; \n• Lundi : doublette femmes (à 8h) et tête à tête hommes (à 9h).
URL:https://www.sortir43.com/evenement/championnat-de-petanque/
LOCATION:Aurec-sur-Loire\, Château-Musée du Moine Sacristain - Rue des Marronniers\, Aurec-sur-Loire\, 42100\, France
CATEGORIES:Sports-Loisirs
ATTACH;FMTTYPE=image/jpeg:https://www.sortir43.com/wp-content/uploads/2022/06/illustration-concours-de-petanque_1-1651674210-1.jpg
END:VEVENT
END:VCALENDAR