BEGIN:VCALENDAR
VERSION:2.0
PRODID:-//Sortir43 - Votre agenda des spectacles, culture, sports et loisirs - ECPv5.11.0//NONSGML v1.0//EN
CALSCALE:GREGORIAN
METHOD:PUBLISH
X-WR-CALNAME:Sortir43 - Votre agenda des spectacles, culture, sports et loisirs
X-ORIGINAL-URL:https://www.sortir43.com
X-WR-CALDESC:évènements pour Sortir43 - Votre agenda des spectacles, culture, sports et loisirs
BEGIN:VTIMEZONE
TZID:Europe/Paris
BEGIN:DAYLIGHT
TZOFFSETFROM:+0100
TZOFFSETTO:+0200
TZNAME:CEST
DTSTART:20260329T010000
END:DAYLIGHT
BEGIN:STANDARD
TZOFFSETFROM:+0200
TZOFFSETTO:+0100
TZNAME:CET
DTSTART:20261025T010000
END:STANDARD
END:VTIMEZONE
BEGIN:VEVENT
DTSTART;VALUE=DATE:20260522
DTEND;VALUE=DATE:20260524
DTSTAMP:20260421T130608
CREATED:20260302T105807Z
LAST-MODIFIED:20260402T154504Z
UID:72283-1779408000-1779580799@www.sortir43.com
SUMMARY:Buena Onda Festival - 9e édition
DESCRIPTION:Buena Onda Festival – 9e édition\n• Vendredi :\n– 19h30 : Warm up DJ Chuin\n– 20h30 : Loopzilla (Groove Funk & Rock)\n– 22h30 : Groumpf (rock psyché\, pop dansante & techno frétillante)\n– 0h : DJ CHUIN (Dub Sound System) \n• Samedi : Scène Tremplin (après-midi)\n– 14h30 : Annagram\n– 16h : Beer bang\n– 17h30 : Noise and Dust\n– 19h : Batucada. \nGrande Scène : 20h30 : Fougaou\, un feu de joie pour les cœurs et les esprits \n– 22h : New Dynastie (Hip-Hop / Breakdance)\n– 22h30 : Solar Project (Afro-Pop feel-good et énergie solaire)\n– 0h : DJ Maboy (House Music). \nAvec aussi : tournois sportifs et pétanque\, animations enfants\, foodtrucks…
URL:https://www.sortir43.com/evenement/buena-onda-festival-9e-edition/
LOCATION:Sanssac-l’Eglise\, Sanssac-l'Eglise\, 43320\, France
CATEGORIES:Spectacles
ATTACH;FMTTYPE=image/jpeg:https://www.sortir43.com/wp-content/uploads/2026/03/Buena-onda-Solar-Project.jpg
END:VEVENT
END:VCALENDAR