BEGIN:VCALENDAR
VERSION:2.0
PRODID:-//Sortir43 - Votre agenda des spectacles, culture, sports et loisirs - ECPv5.11.0//NONSGML v1.0//EN
CALSCALE:GREGORIAN
METHOD:PUBLISH
X-WR-CALNAME:Sortir43 - Votre agenda des spectacles, culture, sports et loisirs
X-ORIGINAL-URL:https://www.sortir43.com
X-WR-CALDESC:évènements pour Sortir43 - Votre agenda des spectacles, culture, sports et loisirs
BEGIN:VTIMEZONE
TZID:Europe/Paris
BEGIN:DAYLIGHT
TZOFFSETFROM:+0100
TZOFFSETTO:+0200
TZNAME:CEST
DTSTART:20260329T010000
END:DAYLIGHT
BEGIN:STANDARD
TZOFFSETFROM:+0200
TZOFFSETTO:+0100
TZNAME:CET
DTSTART:20261025T010000
END:STANDARD
END:VTIMEZONE
BEGIN:VEVENT
DTSTART;VALUE=DATE:20260425
DTEND;VALUE=DATE:20260427
DTSTAMP:20260421T075528
CREATED:20260420T102607Z
LAST-MODIFIED:20260420T102608Z
UID:75571-1777075200-1777247999@www.sortir43.com
SUMMARY:Brioude remonte le temps avec son Week-end Paléo
DESCRIPTION:Brioude remonte le temps avec son Week-end Paléo\nLes 25 et 26 avril 2025\, Brioude se transforme en véritable terrain d’exploration préhistorique à l’occasion du Week-end Paléo.\nPendant deux jours\, dinosaures\, sciences et imaginaire collectif se rencontrent pour offrir au public une immersion ludique et captivante dans l’univers de la paléontologie. \nUn événement spectaculaire\, ludique et accessible \nPensé pour séduire tous les publics\, le Week-end Paléo mêle : \nexpériences immersives (réalité virtuelle)\, contenus scientifiques vulgarisés\, animations familiales\, grands classiques du cinéma. \nUn rendez-vous où apprendre devient un jeu\, et où la science se vit comme une aventure. \nLes temps forts à ne pas manquer \n• Explorer\nUne exposition sur les dinosaures\nDes ateliers et lectures pour les plus jeunes \n• Expérimenter\nDes jeux en réalité virtuelle pour vivre l’expérience au plus près \n• Comprendre\nDeux conférences passionnantes :\n– Les dinosaures dans l’art\n– Jurassic Park et les sciences \n• Vibrer\n– Projection de documentaires\nDeux films cultes :\nLe Petit Dinosaure et la Vallée des merveilles\nJurassic Park \nUne expérience pour toute la famille \nLe Week-end Paléo s’adresse autant aux passionnés qu’aux curieux\, aux enfants comme aux adultes. C’est une invitation à partager un moment convivial autour de la découverte\, dans un cadre accessible avec de nombreuses animations gratuites. \nInformations pratiques \nDates : 25 & 26 avril 2025\nLieux : Halle aux Grains\, Médiathèque\, Cinéma Le Paris\nTarif : gratuit (sauf cinéma)\nTél. 04 71 74 56 00.
URL:https://www.sortir43.com/evenement/brioude-remonte-le-temps-avec-son-week-end-paleo/
LOCATION:B r i o u d e\,  B r i o u d e \, France
CATEGORIES:Animations,Conférences
ATTACH;FMTTYPE=image/jpeg:https://www.sortir43.com/wp-content/uploads/2026/04/Visuel-paleo.jpg
END:VEVENT
END:VCALENDAR