BEGIN:VCALENDAR
VERSION:2.0
PRODID:-//Sortir43 - Votre agenda des spectacles, culture, sports et loisirs - ECPv5.11.0//NONSGML v1.0//EN
CALSCALE:GREGORIAN
METHOD:PUBLISH
X-WR-CALNAME:Sortir43 - Votre agenda des spectacles, culture, sports et loisirs
X-ORIGINAL-URL:https://www.sortir43.com
X-WR-CALDESC:évènements pour Sortir43 - Votre agenda des spectacles, culture, sports et loisirs
BEGIN:VTIMEZONE
TZID:Europe/Paris
BEGIN:DAYLIGHT
TZOFFSETFROM:+0100
TZOFFSETTO:+0200
TZNAME:CEST
DTSTART:20260329T010000
END:DAYLIGHT
BEGIN:STANDARD
TZOFFSETFROM:+0200
TZOFFSETTO:+0100
TZNAME:CET
DTSTART:20261025T010000
END:STANDARD
END:VTIMEZONE
BEGIN:VEVENT
DTSTART;VALUE=DATE:20260607
DTEND;VALUE=DATE:20260608
DTSTAMP:20260423T005031
CREATED:20260302T105816Z
LAST-MODIFIED:20260408T154338Z
UID:72321-1780790400-1780876799@www.sortir43.com
SUMMARY:Audition d'orgue
DESCRIPTION:Audition d’orgue\n« La Messe des Couvents »\, par François Couperin. \nPar les élèves de la région (Moulins\, Vichy\, Thiers\, St-Etienne et Clermont).
URL:https://www.sortir43.com/evenement/audition-dorgue-2/
LOCATION:La Chaise-Dieu\, La Chaise-Dieu\, 43160\, France
CATEGORIES:Spectacles
ATTACH;FMTTYPE=image/jpeg:https://www.sortir43.com/wp-content/uploads/2026/03/clavier-orgue-musique-piano_GEN.jpg
END:VEVENT
END:VCALENDAR