BEGIN:VCALENDAR
VERSION:2.0
PRODID:-//Sortir43 - Votre agenda des spectacles, culture, sports et loisirs - ECPv5.11.0//NONSGML v1.0//EN
CALSCALE:GREGORIAN
METHOD:PUBLISH
X-WR-CALNAME:Sortir43 - Votre agenda des spectacles, culture, sports et loisirs
X-ORIGINAL-URL:https://www.sortir43.com
X-WR-CALDESC:évènements pour Sortir43 - Votre agenda des spectacles, culture, sports et loisirs
BEGIN:VTIMEZONE
TZID:Europe/Paris
BEGIN:DAYLIGHT
TZOFFSETFROM:+0100
TZOFFSETTO:+0200
TZNAME:CEST
DTSTART:20260329T010000
END:DAYLIGHT
BEGIN:STANDARD
TZOFFSETFROM:+0200
TZOFFSETTO:+0100
TZNAME:CET
DTSTART:20261025T010000
END:STANDARD
END:VTIMEZONE
BEGIN:VEVENT
DTSTART;VALUE=DATE:20260312
DTEND;VALUE=DATE:20260313
DTSTAMP:20260422T211943
CREATED:20260302T111948Z
LAST-MODIFIED:20260304T153227Z
UID:72559-1773273600-1773359999@www.sortir43.com
SUMMARY:Atelier sophrologie
DESCRIPTION:Atelier sophrologie\nCalmer le stress et l’anxiété. \nOuvert à tous dès 12 ans. \nTarif : 10 €. \nAutres dates : 26 mars ; 9 et 23 avril ; 7 et 21 mai ; 11 juin.
URL:https://www.sortir43.com/evenement/atelier-sophrologie/2026-03-12/
LOCATION:Saint-Haon\, Saint-Haon\, 43340\, France
CATEGORIES:Sports-Loisirs
ATTACH;FMTTYPE=image/jpeg:https://www.sortir43.com/wp-content/uploads/2025/03/Sophro-GEN.jpg
END:VEVENT
END:VCALENDAR