BEGIN:VCALENDAR
VERSION:2.0
PRODID:-//Sortir43 - Votre agenda des spectacles, culture, sports et loisirs - ECPv5.11.0//NONSGML v1.0//EN
CALSCALE:GREGORIAN
METHOD:PUBLISH
X-WR-CALNAME:Sortir43 - Votre agenda des spectacles, culture, sports et loisirs
X-ORIGINAL-URL:https://www.sortir43.com
X-WR-CALDESC:évènements pour Sortir43 - Votre agenda des spectacles, culture, sports et loisirs
BEGIN:VTIMEZONE
TZID:Europe/Paris
BEGIN:DAYLIGHT
TZOFFSETFROM:+0100
TZOFFSETTO:+0200
TZNAME:CEST
DTSTART:20260329T010000
END:DAYLIGHT
BEGIN:STANDARD
TZOFFSETFROM:+0200
TZOFFSETTO:+0100
TZNAME:CET
DTSTART:20261025T010000
END:STANDARD
END:VTIMEZONE
BEGIN:VEVENT
DTSTART;VALUE=DATE:20260522
DTEND;VALUE=DATE:20260523
DTSTAMP:20260422T191855
CREATED:20260302T110100Z
LAST-MODIFIED:20260403T072055Z
UID:72453-1779408000-1779494399@www.sortir43.com
SUMMARY:Après-midi au jardin partagé
DESCRIPTION:Après-midi au jardin partagé\nClub 65 proposé par le CCAS (pour les 60 ans et plus). \nAnimation surprise\, dégustation. \nGratuit.
URL:https://www.sortir43.com/evenement/apres-midi-au-jardin-partage/
LOCATION:Langeac\, Langeac\, 43300\, France
CATEGORIES:Animations
ATTACH;FMTTYPE=image/jpeg:https://www.sortir43.com/wp-content/uploads/2025/03/jardinage-GEN.jpg
END:VEVENT
END:VCALENDAR